BEGIN:VCALENDAR
PRODID:-//PUBBLE//enter agenda//NL
VERSION:2.0
METHOD:PUBLISH
BEGIN:VEVENT
DTSTART:20191108T181500Z
DTEND:20191108T190000Z
DTSTAMP:20260421T183940Z
UID:4f5c3d6c-7e6a-42c9-90c5-74f74f70e83d
CREATED:20260421T183940Z
URL:https://www.weespfoto.nl/agenda/item/151902
NAME:Try-out concert Harmonieorkest Prinses Irene weespfoto.nl
X-WR-CALNAME:Try-out concert Harmonieorkest Prinses Irene weespfoto.nl
X-ALT-DESC;FMTTYPE=text/html:<a href='https://www.weespfoto.nl/agenda/item//151902'>https://weespfoto.nl/agenda/item//151902</a> || <p>Op vrijdag 8 november geeft het Harmonieorkest van Prinses Irene een try-out concert in hun eigen gebouw aan de IJsselmeerstraat 5a. Het is een try out voor het duo-concert met Philharmonie Gelre op zaterdag 9 november in Bennekom. Het Harmonieorkest zal hun gedeelte van dat concert ten gehore brengen. Dit duurt ongeveer drie kwartier. Hierbij zullen een aantal mooie werken worden gespeeld. Hispania van Oscar Navarro en Danzon no. 2 van Arturo Marquez onder andere. Een mooi afwisselend programma met klanken uit Latijns-Amerika, Spanje, maar ook Wenen en Nederland komen langs. Het concert begint om 20.15, kaarten zijn aan de deur te verkrijgen voor €5,-, hierbij is koffie of thee inbegrepen.</p>
DESCRIPTION:<a href='https://www.weespfoto.nl/agenda/item//151902'>https://www.weespfoto.nl/agenda/item//151902</a> || Op vrijdag 8 november geeft het Harmonieorkest van Prinses Irene een try-out concert in hun eigen gebouw aan de IJsselmeerstraat 5a. Het is een try out voor het duo-concert met Philharmonie Gelre op zaterdag 9 november in Bennekom. Het Harmonieorkest zal hun gedeelte van dat concert ten gehore brengen. Dit duurt ongeveer drie kwartier. Hierbij zullen een aantal mooie werken worden gespeeld. Hispania van Oscar Navarro en Danzon no. 2 van Arturo Marquez onder andere. Een mooi afwisselend programma met klanken uit Latijns-Amerika, Spanje, maar ook Wenen en Nederland komen langs. Het concert begint om 20.15, kaarten zijn aan de deur te verkrijgen voor €5,-, hierbij is koffie of thee inbegrepen.
LAST-MODIFIED:20260421T183940Z
LOCATION:Muziekvereniging Prinses Irene IJsselmeerstraat 5A 1271aa Huizen
SEQUENCE:0
STATUS:CONFIRMED
SUMMARY:Try-out concert Harmonieorkest Prinses Irene
TRANSP:OPAQUE
END:VEVENT
END:VCALENDAR
