BEGIN:VCALENDAR
PRODID:-//PUBBLE//enter agenda//NL
VERSION:2.0
METHOD:PUBLISH
BEGIN:VEVENT
DTSTART:20191124T123000Z
DTEND:20191124T150000Z
DTSTAMP:20260425T112312Z
UID:5cb21674-f259-4da3-b30c-fdd983f17de6
CREATED:20260425T112312Z
URL:https://www.weespfoto.nl/agenda/item/151923
NAME:City Orkest met Maxine & Franklin Brown weespfoto.nl
X-WR-CALNAME:City Orkest met Maxine & Franklin Brown weespfoto.nl
X-ALT-DESC;FMTTYPE=text/html:<a href='https://www.weespfoto.nl/agenda/item//151923'>https://weespfoto.nl/agenda/item//151923</a> || <p>Het najaarsconcert in Studio 1 van het MCO staat dit jaar, hoe kan het ook anders, deels in het teken van het Eurovisie Songfestival. Voor de pauze spelen we enkele eigen stukken en na de pauze treden we op met Maxine & Franklin Brown.
In 1996 vertegenwoordigden Maxine en Franklin Brown Nederland op het Eurovisie Songfestival in Oslo en behaalden daar de 7e plaats. Na het songfestival zijn Maxine en Franklin Brown als solo artiest verder gegaan en speelde Franklin Brown grote rollen in diverse shows van Frank Wentink in Studio 21 te Hilversum. Nog steeds treedt hij regelmatig op met Maxine. Naast de vele dance projecten waaraan Maxine haar naam verbindt is zij ook nog eens de lead zangeres van de band van Edwin Evers en zingt ze sinds 2010 onder meer in de begeleidingsband van The Voice of Holland.
Het City Orkest staat onder leiding van Pieter van den Dolder. Het bestaat uit een complete symfonische bezetting, met daarbij een uitgebreide sax- en ritmesectie. Het City Orkest is er trots op zijn thuisbasis in het Muziekcentrum van de Omroep te hebben.
Kaarten via: https://www.mcogebouw.nl/agenda/city-orkest-2/
Meer informatie: cityorkesthilversum@gmail.com en www.cityorkest.nl


</p>
DESCRIPTION:<a href='https://www.weespfoto.nl/agenda/item//151923'>https://www.weespfoto.nl/agenda/item//151923</a> || Het najaarsconcert in Studio 1 van het MCO staat dit jaar, hoe kan het ook anders, deels in het teken van het Eurovisie Songfestival. Voor de pauze spelen we enkele eigen stukken en na de pauze treden we op met Maxine & Franklin Brown.
In 1996 vertegenwoordigden Maxine en Franklin Brown Nederland op het Eurovisie Songfestival in Oslo en behaalden daar de 7e plaats. Na het songfestival zijn Maxine en Franklin Brown als solo artiest verder gegaan en speelde Franklin Brown grote rollen in diverse shows van Frank Wentink in Studio 21 te Hilversum. Nog steeds treedt hij regelmatig op met Maxine. Naast de vele dance projecten waaraan Maxine haar naam verbindt is zij ook nog eens de lead zangeres van de band van Edwin Evers en zingt ze sinds 2010 onder meer in de begeleidingsband van The Voice of Holland.
Het City Orkest staat onder leiding van Pieter van den Dolder. Het bestaat uit een complete symfonische bezetting, met daarbij een uitgebreide sax- en ritmesectie. Het City Orkest is er trots op zijn thuisbasis in het Muziekcentrum van de Omroep te hebben.
Kaarten via: https://www.mcogebouw.nl/agenda/city-orkest-2/
Meer informatie: cityorkesthilversum@gmail.com en www.cityorkest.nl



LAST-MODIFIED:20260425T112312Z
LOCATION:Muziekcentrum van de Omroep (MCO) Heuvellaan 33 1217jl Hilversum
SEQUENCE:0
STATUS:CONFIRMED
SUMMARY:City Orkest met Maxine & Franklin Brown
TRANSP:OPAQUE
END:VEVENT
END:VCALENDAR
