BEGIN:VCALENDAR
PRODID:-//PUBBLE//enter agenda//NL
VERSION:2.0
METHOD:PUBLISH
BEGIN:VEVENT
DTSTART:20191110T103100Z
DTEND:20191110T150000Z
DTSTAMP:20260422T223049Z
UID:ee048d78-437a-414c-845e-68c8f8ac17e2
CREATED:20260422T223049Z
URL:https://www.weespfoto.nl/agenda/item/151931
NAME:Vechtstroomrit , routebeschrijvingsrit weespfoto.nl
X-WR-CALNAME:Vechtstroomrit , routebeschrijvingsrit weespfoto.nl
X-ALT-DESC;FMTTYPE=text/html:<a href='https://www.weespfoto.nl/agenda/item//151931'>https://weespfoto.nl/agenda/item//151931</a> || <p>Autosportvereniging De Vechtstreek uit Weesp organiseert op zondag 10 november de VECHTSTROOMRIT, een routebeschrijvingsrit voor auto’s. De start en finish zijn bij Golfbaan Weesp, Basisweg 2 te Weesp. Er kan ingeschreven worden in drie klassen, A-klasse (gevorderden), B-klasse (enige ervaring) en C-klasse (beginners). Inschrijven is mogelijk vanaf 12.00 uur en de start is vanaf 12.31 uur. Het inschrijfgeld bedraagt € 15.00 per equipe. Inlichtingen Wim den Doop 0346-564114. Voor meer informatie zie www.asvdevechtstreek.nl.</p>
DESCRIPTION:<a href='https://www.weespfoto.nl/agenda/item//151931'>https://www.weespfoto.nl/agenda/item//151931</a> || Autosportvereniging De Vechtstreek uit Weesp organiseert op zondag 10 november de VECHTSTROOMRIT, een routebeschrijvingsrit voor auto’s. De start en finish zijn bij Golfbaan Weesp, Basisweg 2 te Weesp. Er kan ingeschreven worden in drie klassen, A-klasse (gevorderden), B-klasse (enige ervaring) en C-klasse (beginners). Inschrijven is mogelijk vanaf 12.00 uur en de start is vanaf 12.31 uur. Het inschrijfgeld bedraagt € 15.00 per equipe. Inlichtingen Wim den Doop 0346-564114. Voor meer informatie zie www.asvdevechtstreek.nl.
LAST-MODIFIED:20260422T223049Z
LOCATION:Golfbaan Weesp Basisweg 2 Basisweg 2 1383NC Weesp
SEQUENCE:0
STATUS:CONFIRMED
SUMMARY:Vechtstroomrit , routebeschrijvingsrit
TRANSP:OPAQUE
END:VEVENT
END:VCALENDAR
