BEGIN:VCALENDAR
PRODID:-//PUBBLE//enter agenda//NL
VERSION:2.0
METHOD:PUBLISH
BEGIN:VEVENT
DTSTART:20191114T063000Z
DTEND:20200107T150000Z
DTSTAMP:20260424T011257Z
UID:b7947778-f7e5-473e-b5c6-a1df13408451
CREATED:20260424T011257Z
URL:https://www.weespfoto.nl/agenda/item/151940
NAME:BEL Art beyond limits weespfoto.nl
X-WR-CALNAME:BEL Art beyond limits weespfoto.nl
X-ALT-DESC;FMTTYPE=text/html:<a href='https://www.weespfoto.nl/agenda/item//151940'>https://weespfoto.nl/agenda/item//151940</a> || <p>Hoewel hun werk zeer uiteenlopend is, hebben de kunstenaars van deze tentoonstelling met elkaar gemeen dat hun werken grensverleggend zijn. 
Digitaal kunstenaar Vincent van der Geest maakt vanuit zijn studio FIN ART digitaal geconstrueerde foto’s en werkt als (motion) graphic designer. In zijn foto’s zoekt hij de kracht van de eenvoud en creëert hij met strakke en heldere ontwerpen een eigen wereld. Daarnaast ontwerpt hij in opdracht logo’s, huisstijlen en animaties. 
Beeldhouwer Jan-Willem van Oldeneel maakt zowel vrij werk, als werken in opdracht. Hij creëert geboetseerde portretten van mensen en dieren gegoten in brons en objecten vervaardigd uit (gegoten) aluminium, brons of zilver, geblazen of vlak glas, bewerkt hout en natuursteen, of een combinatie daarvan. Ervaring met het glasblazen heeft hij opgedaan toen hij werkzaam was als product manager bij de Glasfabriek Leerdam. Zijn inspiratie voor het glas vindt hij veelal in de natuur. 
Metaalkunstenaar Ruud Termijn vindt inspiratie in zowel in de natuur als in het industriële wat een bijzondere mix van "strak tot organisch"  oplevert.  Hij is continu bezig zich te ontwikkelen in het bewerken, etsen en fuseren van metalen. Hierdoor heeft hij door de jaren heen zijn technieken weten te ontwikkelen wat tot uiting komt in zijn originele, verrassende en vernieuwende werken in verschillende disciplines.  
</p>
DESCRIPTION:<a href='https://www.weespfoto.nl/agenda/item//151940'>https://www.weespfoto.nl/agenda/item//151940</a> || Hoewel hun werk zeer uiteenlopend is, hebben de kunstenaars van deze tentoonstelling met elkaar gemeen dat hun werken grensverleggend zijn. 
Digitaal kunstenaar Vincent van der Geest maakt vanuit zijn studio FIN ART digitaal geconstrueerde foto’s en werkt als (motion) graphic designer. In zijn foto’s zoekt hij de kracht van de eenvoud en creëert hij met strakke en heldere ontwerpen een eigen wereld. Daarnaast ontwerpt hij in opdracht logo’s, huisstijlen en animaties. 
Beeldhouwer Jan-Willem van Oldeneel maakt zowel vrij werk, als werken in opdracht. Hij creëert geboetseerde portretten van mensen en dieren gegoten in brons en objecten vervaardigd uit (gegoten) aluminium, brons of zilver, geblazen of vlak glas, bewerkt hout en natuursteen, of een combinatie daarvan. Ervaring met het glasblazen heeft hij opgedaan toen hij werkzaam was als product manager bij de Glasfabriek Leerdam. Zijn inspiratie voor het glas vindt hij veelal in de natuur. 
Metaalkunstenaar Ruud Termijn vindt inspiratie in zowel in de natuur als in het industriële wat een bijzondere mix van "strak tot organisch"  oplevert.  Hij is continu bezig zich te ontwikkelen in het bewerken, etsen en fuseren van metalen. Hierdoor heeft hij door de jaren heen zijn technieken weten te ontwikkelen wat tot uiting komt in zijn originele, verrassende en vernieuwende werken in verschillende disciplines.  

LAST-MODIFIED:20260424T011257Z
LOCATION:BEL kantoor Zuidersingel 5 3755AZ Eemnes
SEQUENCE:0
STATUS:CONFIRMED
SUMMARY:BEL Art beyond limits
TRANSP:OPAQUE
END:VEVENT
END:VCALENDAR
