BEGIN:VCALENDAR
PRODID:-//PUBBLE//enter agenda//NL
VERSION:2.0
METHOD:PUBLISH
BEGIN:VEVENT
DTSTART:20191114T183000Z
DTEND:20191114T200000Z
DTSTAMP:20260424T140105Z
UID:687e8a9f-3ad4-47a7-9fb2-87a97ea742c5
CREATED:20260424T140105Z
URL:https://www.weespfoto.nl/agenda/item/151960
NAME:Dertigerscafé met stand-up programma weespfoto.nl
X-WR-CALNAME:Dertigerscafé met stand-up programma weespfoto.nl
X-ALT-DESC;FMTTYPE=text/html:<a href='https://www.weespfoto.nl/agenda/item//151960'>https://weespfoto.nl/agenda/item//151960</a> || Een aantal enthousiaste dertigers van geloofsgemeenschap Sion in Bussum heeft het initiatief genomen tot een ontmoetingsplek in het Gooi. Onder de naam Dertigers Connect wordt onder meer een ‘dertigerscafé’ geboden, voor ontmoeting en verdieping. 

Volgens de organisatoren zijn veel dertigers anno 2019 continu bang iets te missen. Ze hebben voor hun gevoel geen tijd te verliezen. Keuzestress, maar ook levensvragen (wie ben ik, wat wil ik?) zorgen voor veel onrust. Dertigers Connect is daarom een ontmoetingsplek voor dertigers die met elkaar een avond in gesprek willen zijn, bijvoorbeeld over het verlangen naar meer tijd en meer rust in het leven. 
Donderdag 14 november zal stand-up theoloog Leendert van der Sluijs ingaan op de vraag ‘Wat doe je als de kaas plotseling op is?!’ (over omgaan met veranderingen, zowel zakelijk als privé). Hij doet dat op eigen prikkelende wijze en zal bij de piano o.a. voorlezen uit Kaas, een boek van de bekende schrijver Willem Elsschot. 
Op deze avond is er natuurlijk ook ‘een glaasje en kaasje’: een kaasproeverij en meer. Het dertigerscafé wordt gehouden in het Spieghelhuis achter de Spieghelkerk, Nieuwe ’s Gravelandseweg 34, en is open om 20.30 uur. Meer info is te vinden op de website van Dertigers Connect Bussum, www.meetingmillennials.nl.


DESCRIPTION:<a href='https://www.weespfoto.nl/agenda/item//151960'>https://www.weespfoto.nl/agenda/item//151960</a> || Een aantal enthousiaste dertigers van geloofsgemeenschap Sion in Bussum heeft het initiatief genomen tot een ontmoetingsplek in het Gooi. Onder de naam Dertigers Connect wordt onder meer een ‘dertigerscafé’ geboden, voor ontmoeting en verdieping. 

Volgens de organisatoren zijn veel dertigers anno 2019 continu bang iets te missen. Ze hebben voor hun gevoel geen tijd te verliezen. Keuzestress, maar ook levensvragen (wie ben ik, wat wil ik?) zorgen voor veel onrust. Dertigers Connect is daarom een ontmoetingsplek voor dertigers die met elkaar een avond in gesprek willen zijn, bijvoorbeeld over het verlangen naar meer tijd en meer rust in het leven. 
Donderdag 14 november zal stand-up theoloog Leendert van der Sluijs ingaan op de vraag ‘Wat doe je als de kaas plotseling op is?!’ (over omgaan met veranderingen, zowel zakelijk als privé). Hij doet dat op eigen prikkelende wijze en zal bij de piano o.a. voorlezen uit Kaas, een boek van de bekende schrijver Willem Elsschot. 
Op deze avond is er natuurlijk ook ‘een glaasje en kaasje’: een kaasproeverij en meer. Het dertigerscafé wordt gehouden in het Spieghelhuis achter de Spieghelkerk, Nieuwe ’s Gravelandseweg 34, en is open om 20.30 uur. Meer info is te vinden op de website van Dertigers Connect Bussum, www.meetingmillennials.nl.


LAST-MODIFIED:20260424T140105Z
LOCATION:Spieghelkerk Bussum Nieuwe 's-Gravelandseweg 34 1405HM Bussum
SEQUENCE:0
STATUS:CONFIRMED
SUMMARY:Dertigerscafé met stand-up programma
TRANSP:OPAQUE
END:VEVENT
END:VCALENDAR
