BEGIN:VCALENDAR
PRODID:-//PUBBLE//enter agenda//NL
VERSION:2.0
METHOD:PUBLISH
BEGIN:VEVENT
DTSTART:20191113T081000Z
DTEND:20191113T110000Z
DTSTAMP:20260423T125344Z
UID:ba4aff73-eb0f-4aa4-9a03-d89374811dc4
CREATED:20260423T125344Z
URL:https://www.weespfoto.nl/agenda/item/151984
NAME:Gooi 't niet weg maar kom er mee naar het Repair Café weespfoto.nl
X-WR-CALNAME:Gooi 't niet weg maar kom er mee naar het Repair Café weespfoto.nl
X-ALT-DESC;FMTTYPE=text/html:<a href='https://www.weespfoto.nl/agenda/item//151984'>https://weespfoto.nl/agenda/item//151984</a> || <p>Staat u op het punt uw strijkbout, waterkoker of ander apparaat weg te gooien ?
Doe het niet maar kom er mee naar het Repair Café. In veel gevallen is reparatie nog heel goed mogelijk waardoor het apparaat weer lange tijd mee kan. Weggooien kan altijd nog. Op die manier levert u samen met ons een bijdrage aan een schonere leefomgeving.  U bent welkom met huishoudelijke apparatuur, electronica, tuingereedschap, fietsen (verlichting) en ook beschadigde kleding. De reparaties worden gratis uitgevoerd. Na 12.00 uur worden geen reparaties meer aangenomen.  </p>
DESCRIPTION:<a href='https://www.weespfoto.nl/agenda/item//151984'>https://www.weespfoto.nl/agenda/item//151984</a> || Staat u op het punt uw strijkbout, waterkoker of ander apparaat weg te gooien ?
Doe het niet maar kom er mee naar het Repair Café. In veel gevallen is reparatie nog heel goed mogelijk waardoor het apparaat weer lange tijd mee kan. Weggooien kan altijd nog. Op die manier levert u samen met ons een bijdrage aan een schonere leefomgeving.  U bent welkom met huishoudelijke apparatuur, electronica, tuingereedschap, fietsen (verlichting) en ook beschadigde kleding. De reparaties worden gratis uitgevoerd. Na 12.00 uur worden geen reparaties meer aangenomen.  
LAST-MODIFIED:20260423T125344Z
LOCATION:De Malbak Burgemeester Tydeman-plein 3 1261mw Blaricum
SEQUENCE:0
STATUS:CONFIRMED
SUMMARY:Gooi 't niet weg maar kom er mee naar het Repair Café
TRANSP:OPAQUE
END:VEVENT
END:VCALENDAR
