BEGIN:VCALENDAR
PRODID:-//PUBBLE//enter agenda//NL
VERSION:2.0
METHOD:PUBLISH
BEGIN:VEVENT
DTSTART:20191109T120000Z
DTEND:20191109T131500Z
DTSTAMP:20260422T064322Z
UID:46869344-37d0-4630-a698-57deed90273d
CREATED:20260422T064322Z
URL:https://www.weespfoto.nl/agenda/item/152104
NAME:Wandeling door historisch Huizen weespfoto.nl
X-WR-CALNAME:Wandeling door historisch Huizen weespfoto.nl
X-ALT-DESC;FMTTYPE=text/html:<a href='https://www.weespfoto.nl/agenda/item//152104'>https://weespfoto.nl/agenda/item//152104</a> || <p>Zaterdag 9 november staat er om 14.00 uur een gids klaar voor een wandeling door het historische gedeelte van Huizen. Vertrek vanaf het Huizer Museum aan de Achterbaan 82. De wandeling duurt ruim een uur en kost € 4,00 per persoon. Reserveren is niet nodig, u kunt zo aansluiten.
Op de route zijn diverse boerderijen te zien met o.a. een trapgevel en klokgevel. Tijdens de wandeling komt uiteraard niet alleen het boerenverleden maar ook het vissersverleden aan de orde.
De gids leidt u door diverse kleine straatjes en steegjes met allerlei woningen van o.a. een bakker, de eerste smid, een bijzondere mutsenstrijkster, kleine voormalige winkeltjes van vroegere weduwen en veel meer. De gids wijst u op diverse details die zich aan de buitenzijde van de woningen bevinden. De gids weet altijd nog een bijzondere anekdote te vertellen.
De tijd van het jaar leent zich bijzonder goed voor een wandeling omdat de bomen erg mooi aan het verkleuren zijn.
De wandeling is een aanrader en absoluut de moeite waard omdat op details gewezen waar u normaal gesproken aan voorbij gaat.
Na afloop kunt u het museum bezoeken of in de koffiecorner een kop koffie drinken. De tijdelijke tentoonstellingen van dit moment zijn ‘Van Bot naar Pot’ en ‘Boten bij de vis’.
</p>
DESCRIPTION:<a href='https://www.weespfoto.nl/agenda/item//152104'>https://www.weespfoto.nl/agenda/item//152104</a> || Zaterdag 9 november staat er om 14.00 uur een gids klaar voor een wandeling door het historische gedeelte van Huizen. Vertrek vanaf het Huizer Museum aan de Achterbaan 82. De wandeling duurt ruim een uur en kost € 4,00 per persoon. Reserveren is niet nodig, u kunt zo aansluiten.
Op de route zijn diverse boerderijen te zien met o.a. een trapgevel en klokgevel. Tijdens de wandeling komt uiteraard niet alleen het boerenverleden maar ook het vissersverleden aan de orde.
De gids leidt u door diverse kleine straatjes en steegjes met allerlei woningen van o.a. een bakker, de eerste smid, een bijzondere mutsenstrijkster, kleine voormalige winkeltjes van vroegere weduwen en veel meer. De gids wijst u op diverse details die zich aan de buitenzijde van de woningen bevinden. De gids weet altijd nog een bijzondere anekdote te vertellen.
De tijd van het jaar leent zich bijzonder goed voor een wandeling omdat de bomen erg mooi aan het verkleuren zijn.
De wandeling is een aanrader en absoluut de moeite waard omdat op details gewezen waar u normaal gesproken aan voorbij gaat.
Na afloop kunt u het museum bezoeken of in de koffiecorner een kop koffie drinken. De tijdelijke tentoonstellingen van dit moment zijn ‘Van Bot naar Pot’ en ‘Boten bij de vis’.

LAST-MODIFIED:20260422T064322Z
LOCATION:Huizer Museum Achterbaan 82 1271TZ Huizen
SEQUENCE:0
STATUS:CONFIRMED
SUMMARY:Wandeling door historisch Huizen
TRANSP:OPAQUE
END:VEVENT
END:VCALENDAR
