BEGIN:VCALENDAR
PRODID:-//PUBBLE//enter agenda//NL
VERSION:2.0
METHOD:PUBLISH
BEGIN:VEVENT
DTSTART:20191109T090000Z
DTEND:20191109T140000Z
DTSTAMP:20260422T015432Z
UID:d935a53a-70f2-4a03-9186-db9bd231d430
CREATED:20260422T015432Z
URL:https://www.weespfoto.nl/agenda/item/152228
NAME:Fashion Swap & Shop weespfoto.nl
X-WR-CALNAME:Fashion Swap & Shop weespfoto.nl
X-ALT-DESC;FMTTYPE=text/html:<a href='https://www.weespfoto.nl/agenda/item//152228'>https://weespfoto.nl/agenda/item//152228</a> || <p>Heb jij winter/feestkleding en accessoires zoals: tassen, schoenen, kettingen, shawls etc. Doe ze niet weg! First: Swap & Shop onder genot van een hapje en drankje! Entree: Gratis. Inbreng: Alleen schoon en netjes gedragen, nieuw of bijna nieuwe kleding. Geen afgedragen, kapotte kleding! Ruilsysteem: Elk item is 1 ruilpunt. Niet geruilde kleding gaat naar Second Step Amsterdam, een reïntegratieproject voor exslachtoffers vrouwenhandel. Inbreng: Vrijdag 8 november 19.00-21.00 uur of op afspraak. Locatie: Studio Colourful Life, Eemlandweg 7 huizen. Voor meer informatie mail: jeaninevandorssen@gmail.com of bel 0642572722   
</p>
DESCRIPTION:<a href='https://www.weespfoto.nl/agenda/item//152228'>https://www.weespfoto.nl/agenda/item//152228</a> || Heb jij winter/feestkleding en accessoires zoals: tassen, schoenen, kettingen, shawls etc. Doe ze niet weg! First: Swap & Shop onder genot van een hapje en drankje! Entree: Gratis. Inbreng: Alleen schoon en netjes gedragen, nieuw of bijna nieuwe kleding. Geen afgedragen, kapotte kleding! Ruilsysteem: Elk item is 1 ruilpunt. Niet geruilde kleding gaat naar Second Step Amsterdam, een reïntegratieproject voor exslachtoffers vrouwenhandel. Inbreng: Vrijdag 8 november 19.00-21.00 uur of op afspraak. Locatie: Studio Colourful Life, Eemlandweg 7 huizen. Voor meer informatie mail: jeaninevandorssen@gmail.com of bel 0642572722   

LAST-MODIFIED:20260422T015432Z
LOCATION:Studio Colourful Life Eemlandweg 7 1271kr Huizen
SEQUENCE:0
STATUS:CONFIRMED
SUMMARY:Fashion Swap & Shop
TRANSP:OPAQUE
END:VEVENT
END:VCALENDAR
