BEGIN:VCALENDAR
PRODID:-//PUBBLE//enter agenda//NL
VERSION:2.0
METHOD:PUBLISH
BEGIN:VEVENT
DTSTART:20191110T110000Z
DTEND:20191110T140000Z
DTSTAMP:20260423T000944Z
UID:8af4b105-5679-48c1-a7d6-7dea2f237826
CREATED:20260423T000944Z
URL:https://www.weespfoto.nl/agenda/item/152252
NAME:Frühschoppen met de Gooise Egerländer Musikanten weespfoto.nl
X-WR-CALNAME:Frühschoppen met de Gooise Egerländer Musikanten weespfoto.nl
X-ALT-DESC;FMTTYPE=text/html:<a href='https://www.weespfoto.nl/agenda/item//152252'>https://weespfoto.nl/agenda/item//152252</a> || <p>Op zondag 10 november a.s. spelen de Gooise Egerländer Musikanten weer
in het buurthuis De Koepel aan de Kapittelweg 399a, 1216 JC
Hilversum. Er wordt gespeeld van 13.00 - 16.00 uur.
Deze blaaskapel is gespecialiseerd in Böhmische en Tsjechische muziek,
ofwel originele Egerländer muziek.
Zij spelen regelmatig en met succes in bejaarden- en/of
verzorgingstehuizen en geven zelfs gratis concerten in buurthuizen.
Hét recept voor een leuke sfeervolle middag.
ENTREE GRATIS.
Voor meer informatie kijkt op de website www.gooiseegerlandermusikanten.nl</p>
DESCRIPTION:<a href='https://www.weespfoto.nl/agenda/item//152252'>https://www.weespfoto.nl/agenda/item//152252</a> || Op zondag 10 november a.s. spelen de Gooise Egerländer Musikanten weer
in het buurthuis De Koepel aan de Kapittelweg 399a, 1216 JC
Hilversum. Er wordt gespeeld van 13.00 - 16.00 uur.
Deze blaaskapel is gespecialiseerd in Böhmische en Tsjechische muziek,
ofwel originele Egerländer muziek.
Zij spelen regelmatig en met succes in bejaarden- en/of
verzorgingstehuizen en geven zelfs gratis concerten in buurthuizen.
Hét recept voor een leuke sfeervolle middag.
ENTREE GRATIS.
Voor meer informatie kijkt op de website www.gooiseegerlandermusikanten.nl
LAST-MODIFIED:20260423T000944Z
LOCATION:Wijkcentrum De Koepel Kapittelweg 399a 1216jc Hilversum
SEQUENCE:0
STATUS:CONFIRMED
SUMMARY:Frühschoppen met de Gooise Egerländer Musikanten
TRANSP:OPAQUE
END:VEVENT
END:VCALENDAR
