BEGIN:VCALENDAR
PRODID:-//PUBBLE//enter agenda//NL
VERSION:2.0
METHOD:PUBLISH
BEGIN:VEVENT
DTSTART:20191115T080000Z
DTEND:20191115T100000Z
DTSTAMP:20260424T170127Z
UID:fb95331c-c22b-4272-99b6-3e139e0071e6
CREATED:20260424T170127Z
URL:https://www.weespfoto.nl/agenda/item/152399
NAME:Themaochtend: "Wat doet een familierechtadvocaat?" weespfoto.nl
X-WR-CALNAME:Themaochtend: "Wat doet een familierechtadvocaat?" weespfoto.nl
X-ALT-DESC;FMTTYPE=text/html:<a href='https://www.weespfoto.nl/agenda/item//152399'>https://weespfoto.nl/agenda/item//152399</a> || <p>Vrijdag 15 november van 10.00-12.00 uur in Bibliotheek Gooi en meer vestiging Bussum.
Themaochtend over de vraag: Wat doet een familierechtadvocaat? door Isabel van Brunschot

Wat kan een familierechtadvocaat betekenen bij een echtscheiding? 
Isabel van Brunschot, familierecht advocaat in Naarden en verbonden aan de Rechtswinkel, vertelt wat er allemaal moet gebeuren bij een echtscheiding en waarom het zo belangrijk is om een advocaat te kiezen die gespecialiseerd is in familierecht. 
Want ook bij een echtscheiding geldt: een goede voorbereiding is het halve werk.

Kom naar de themaochtend en laat u informeren.

Iedereen is van harte welkom, de entree is vrij!
</p>
DESCRIPTION:<a href='https://www.weespfoto.nl/agenda/item//152399'>https://www.weespfoto.nl/agenda/item//152399</a> || Vrijdag 15 november van 10.00-12.00 uur in Bibliotheek Gooi en meer vestiging Bussum.
Themaochtend over de vraag: Wat doet een familierechtadvocaat? door Isabel van Brunschot

Wat kan een familierechtadvocaat betekenen bij een echtscheiding? 
Isabel van Brunschot, familierecht advocaat in Naarden en verbonden aan de Rechtswinkel, vertelt wat er allemaal moet gebeuren bij een echtscheiding en waarom het zo belangrijk is om een advocaat te kiezen die gespecialiseerd is in familierecht. 
Want ook bij een echtscheiding geldt: een goede voorbereiding is het halve werk.

Kom naar de themaochtend en laat u informeren.

Iedereen is van harte welkom, de entree is vrij!

LAST-MODIFIED:20260424T170127Z
LOCATION:    
SEQUENCE:0
STATUS:CONFIRMED
SUMMARY:Themaochtend: "Wat doet een familierechtadvocaat?"
TRANSP:OPAQUE
END:VEVENT
END:VCALENDAR
