BEGIN:VCALENDAR
PRODID:-//PUBBLE//enter agenda//NL
VERSION:2.0
METHOD:PUBLISH
BEGIN:VEVENT
DTSTART:20191114T103000Z
DTEND:20191114T120000Z
DTSTAMP:20260424T054117Z
UID:a6ad7914-cd70-4191-87a6-8d8d11f6569c
CREATED:20260424T054117Z
URL:https://www.weespfoto.nl/agenda/item/152469
NAME:Samen eten in de Buurtkamer weespfoto.nl
X-WR-CALNAME:Samen eten in de Buurtkamer weespfoto.nl
X-ALT-DESC;FMTTYPE=text/html:<a href='https://www.weespfoto.nl/agenda/item//152469'>https://weespfoto.nl/agenda/item//152469</a> || <p>Gezellig samen eten. Aanmelden en vooraf betalen i.v.m. inkoop, kosten 3,50 euro.</p>
DESCRIPTION:<a href='https://www.weespfoto.nl/agenda/item//152469'>https://www.weespfoto.nl/agenda/item//152469</a> || Gezellig samen eten. Aanmelden en vooraf betalen i.v.m. inkoop, kosten 3,50 euro.
LAST-MODIFIED:20260424T054117Z
LOCATION:Buurtkamer Kastanje Kastanjelaan 2a Kastanjelaan 2a 1382RC Weesp
SEQUENCE:0
STATUS:CONFIRMED
SUMMARY:Samen eten in de Buurtkamer
TRANSP:OPAQUE
END:VEVENT
END:VCALENDAR
