BEGIN:VCALENDAR
PRODID:-//PUBBLE//enter agenda//NL
VERSION:2.0
METHOD:PUBLISH
BEGIN:VEVENT
DTSTART:20191113T190000Z
DTEND:20191113T210000Z
DTSTAMP:20260423T235211Z
UID:a8fac679-992e-4ec0-af11-efc79b251362
CREATED:20260423T235211Z
URL:https://www.weespfoto.nl/agenda/item/152497
NAME:Première Judy  weespfoto.nl
X-WR-CALNAME:Première Judy  weespfoto.nl
X-ALT-DESC;FMTTYPE=text/html:<a href='https://www.weespfoto.nl/agenda/item//152497'>https://weespfoto.nl/agenda/item//152497</a> || <p>Over Judy
Renée Zellweger is de legendarische Judy Garland in de gelijknamige speelfilm Judy. Nadat haar carrière in Amerika op een laag pitje is komen te staan, reist Judy in de winter van 1968 af naar Londen voor een reeks uitverkochte theatershows. Het is 30 jaar geleden dat ze doorbrak als Dorothy in ‘The Wizard of Oz’. Haar stem is verzwakt en haar financiële problemen stapelen zich op. Terwijl Judy zich voorbereidt op haar shows zien we een fragiele, maar ook weerbare Garland die vecht voor haar eigen geluk, haar gezin en de liefde. Altijd met een flinke dosis humor en charme. Ondersteund door haar beroemde nummers, waaronder ‘Somewhere Over the Rainbow’, vertolkt Renée op fenomenale wijze de rol van deze showbizzlegende.</p>
DESCRIPTION:<a href='https://www.weespfoto.nl/agenda/item//152497'>https://www.weespfoto.nl/agenda/item//152497</a> || Over Judy
Renée Zellweger is de legendarische Judy Garland in de gelijknamige speelfilm Judy. Nadat haar carrière in Amerika op een laag pitje is komen te staan, reist Judy in de winter van 1968 af naar Londen voor een reeks uitverkochte theatershows. Het is 30 jaar geleden dat ze doorbrak als Dorothy in ‘The Wizard of Oz’. Haar stem is verzwakt en haar financiële problemen stapelen zich op. Terwijl Judy zich voorbereidt op haar shows zien we een fragiele, maar ook weerbare Garland die vecht voor haar eigen geluk, haar gezin en de liefde. Altijd met een flinke dosis humor en charme. Ondersteund door haar beroemde nummers, waaronder ‘Somewhere Over the Rainbow’, vertolkt Renée op fenomenale wijze de rol van deze showbizzlegende.
LAST-MODIFIED:20260423T235211Z
LOCATION:Filmtheater Hilversum Herenplein 5 1211dr Hilversum
SEQUENCE:0
STATUS:CONFIRMED
SUMMARY:Première Judy 
TRANSP:OPAQUE
END:VEVENT
END:VCALENDAR
