BEGIN:VCALENDAR
PRODID:-//PUBBLE//enter agenda//NL
VERSION:2.0
METHOD:PUBLISH
BEGIN:VEVENT
DTSTART:20191110T080000Z
DTEND:20191110T090000Z
DTSTAMP:20260422T161142Z
UID:5c128b83-a065-488e-b45a-4696d30594b7
CREATED:20260422T161142Z
URL:https://www.weespfoto.nl/agenda/item/152552
NAME:Kerkdienst weespfoto.nl
X-WR-CALNAME:Kerkdienst weespfoto.nl
X-ALT-DESC;FMTTYPE=text/html:<a href='https://www.weespfoto.nl/agenda/item//152552'>https://weespfoto.nl/agenda/item//152552</a> || <p>Kinderdienst. Voorganger is ds. M Reinders uit Diemen</p>
DESCRIPTION:<a href='https://www.weespfoto.nl/agenda/item//152552'>https://www.weespfoto.nl/agenda/item//152552</a> || Kinderdienst. Voorganger is ds. M Reinders uit Diemen
LAST-MODIFIED:20260422T161142Z
LOCATION:De Ontmoeting Schoolstraat 8 - 10 1111br Diemen
SEQUENCE:0
STATUS:CONFIRMED
SUMMARY:Kerkdienst
TRANSP:OPAQUE
END:VEVENT
END:VCALENDAR
