BEGIN:VCALENDAR
PRODID:-//PUBBLE//enter agenda//NL
VERSION:2.0
METHOD:PUBLISH
BEGIN:VEVENT
DTSTART:20191110T124500Z
DTEND:20191110T140000Z
DTSTAMP:20260423T044257Z
UID:fb61c472-32d0-4eda-87e4-e9e45b171dba
CREATED:20260423T044257Z
URL:https://www.weespfoto.nl/agenda/item/152562
NAME:Metropole Session: Ibeyi & Metropole Orkest o.l.v. Jules Buckley weespfoto.nl
X-WR-CALNAME:Metropole Session: Ibeyi & Metropole Orkest o.l.v. Jules Buckley weespfoto.nl
X-ALT-DESC;FMTTYPE=text/html:<a href='https://www.weespfoto.nl/agenda/item//152562'>https://weespfoto.nl/agenda/item//152562</a> || <p>Ibeyi bestaat uit de tweelingzussen Lisa-Kaindé en Naomi Díaz (de naam van de band betekent ‘tweeling’ in het Yoruba). Met behulp van het 50-koppige Metropole Orkest onder leiding van chef-dirigent Jules Buckley zullen ze tijdens de Metropole Session materiaal van hun eerste twee albums vertalen naar een nieuw orkestraal verhaal.

In intieme setting geniet een klein publiek van muziekliefhebbers (slechts 250 stoelen) in de thuisbasis van het orkest van een exclusieve ervaring. Als bezoeker zit je extra dicht op het Metropole Orkest. Zo heb je de kans het orkest letterlijk van een andere kant te zien. Zit je straks bij de trompetten of achter de strijkers?

Het debuutalbum ‘Ibeyi’ (2015) gaat dieper in op het verleden van de zussen; de relatie tussen de twee, hun afkomst en hun verlies. Dit album leverde een hoop nieuwe fans en bijzondere samenwerkingen op. Zo zijn een aantal iconische artiesten van deze tijd, waaronder Beyoncé en Alvin Ailey, groot liefhebber van de zusjes.

Hun tweede album ‘Ash’ (2017) is een krachtige politieke verklaring. En al hoor je op dit album ook de Afro-Cubaanse cultuur en geschiedenis terug, het gaat vooral over wie Lisa-Kaindé en Noami vandaag de dag zijn, wat voor hen belangrijk is en hoe ze in het leven staan. Ibeyi liet zich voor dit album beïnvloeden door artiesten als Kendrick Lamar, Jay Electronica, Erykah Badu, Nina Simone e.v.a..</p>
DESCRIPTION:<a href='https://www.weespfoto.nl/agenda/item//152562'>https://www.weespfoto.nl/agenda/item//152562</a> || Ibeyi bestaat uit de tweelingzussen Lisa-Kaindé en Naomi Díaz (de naam van de band betekent ‘tweeling’ in het Yoruba). Met behulp van het 50-koppige Metropole Orkest onder leiding van chef-dirigent Jules Buckley zullen ze tijdens de Metropole Session materiaal van hun eerste twee albums vertalen naar een nieuw orkestraal verhaal.

In intieme setting geniet een klein publiek van muziekliefhebbers (slechts 250 stoelen) in de thuisbasis van het orkest van een exclusieve ervaring. Als bezoeker zit je extra dicht op het Metropole Orkest. Zo heb je de kans het orkest letterlijk van een andere kant te zien. Zit je straks bij de trompetten of achter de strijkers?

Het debuutalbum ‘Ibeyi’ (2015) gaat dieper in op het verleden van de zussen; de relatie tussen de twee, hun afkomst en hun verlies. Dit album leverde een hoop nieuwe fans en bijzondere samenwerkingen op. Zo zijn een aantal iconische artiesten van deze tijd, waaronder Beyoncé en Alvin Ailey, groot liefhebber van de zusjes.

Hun tweede album ‘Ash’ (2017) is een krachtige politieke verklaring. En al hoor je op dit album ook de Afro-Cubaanse cultuur en geschiedenis terug, het gaat vooral over wie Lisa-Kaindé en Noami vandaag de dag zijn, wat voor hen belangrijk is en hoe ze in het leven staan. Ibeyi liet zich voor dit album beïnvloeden door artiesten als Kendrick Lamar, Jay Electronica, Erykah Badu, Nina Simone e.v.a..
LAST-MODIFIED:20260423T044257Z
LOCATION:Muziekcentrum van de Omroep (MCO) Heuvellaan 33 1217jl Hilversum
SEQUENCE:0
STATUS:CONFIRMED
SUMMARY:Metropole Session: Ibeyi & Metropole Orkest o.l.v. Jules Buckley
TRANSP:OPAQUE
END:VEVENT
END:VCALENDAR
