BEGIN:VCALENDAR
PRODID:-//PUBBLE//enter agenda//NL
VERSION:2.0
METHOD:PUBLISH
BEGIN:VEVENT
DTSTART:20191113T180000Z
DTEND:20191113T200000Z
DTSTAMP:20260423T203929Z
UID:ebf62ce7-a152-490a-8f8f-0308bb6f6842
CREATED:20260423T203929Z
URL:https://www.weespfoto.nl/agenda/item/152573
NAME:Noord Korea "De verbeelde werkelijkheid" weespfoto.nl
X-WR-CALNAME:Noord Korea "De verbeelde werkelijkheid" weespfoto.nl
X-ALT-DESC;FMTTYPE=text/html:<a href='https://www.weespfoto.nl/agenda/item//152573'>https://weespfoto.nl/agenda/item//152573</a> || <p>een avond over Noord Korea "De verbeelde werkelijkheid"
Woensdagavond 13 november neemt Drs. Marc Roth je mee naar Noord-Korea, het meest gesloten land ter wereld, onder de titel  De verbeelde werkelijkheid.                              Pyongyang, de hoofdstad van Noord-Korea en uithangbord van het land transformeert zich de laatste jaren tot een ‘socialistische sprookjesstad’ in een bijna surrealistisch decor. Verbeelde werkelijkheid die een ideale samenleving wil tonen. Dit zie je ook op het gebied van kunst, waar socialistisch realisme de enige toegestane stroming is. Kunst moet namelijk duidelijk zijn voor iedereen en kunstenaars zijn altijd schatplichtig aan het regime.
Bij een bezoek aan Noord-Korea dringt dus voortdurend de vraag op: wat is waar en wat is de werkelijkheid? Is de werkelijkheid die we daar te zien krijgen überhaupt wel waar? En wordt ons beeld van Noord-Korea niet gekleurd door onze ‘Westerse bril’?                                     
De avond wordt verrijkt met afbeeldingen, (korte) clips en ander beeldmateriaal dat nog maar weinig mensen gezien hebben. En natuurlijk de eigen ervaringen van Marc als bezoeker van Noord-Korea. 
Woensdag 13 november, Bibliotheek Muiden, aanvang 20.00 uur.                                             Entree €12,50, leden betalen € 10,-.
Kaarten zijn te koop via de balie en www.bibliotheekgooienmeer.nl </p>
DESCRIPTION:<a href='https://www.weespfoto.nl/agenda/item//152573'>https://www.weespfoto.nl/agenda/item//152573</a> || een avond over Noord Korea "De verbeelde werkelijkheid"
Woensdagavond 13 november neemt Drs. Marc Roth je mee naar Noord-Korea, het meest gesloten land ter wereld, onder de titel  De verbeelde werkelijkheid.                              Pyongyang, de hoofdstad van Noord-Korea en uithangbord van het land transformeert zich de laatste jaren tot een ‘socialistische sprookjesstad’ in een bijna surrealistisch decor. Verbeelde werkelijkheid die een ideale samenleving wil tonen. Dit zie je ook op het gebied van kunst, waar socialistisch realisme de enige toegestane stroming is. Kunst moet namelijk duidelijk zijn voor iedereen en kunstenaars zijn altijd schatplichtig aan het regime.
Bij een bezoek aan Noord-Korea dringt dus voortdurend de vraag op: wat is waar en wat is de werkelijkheid? Is de werkelijkheid die we daar te zien krijgen überhaupt wel waar? En wordt ons beeld van Noord-Korea niet gekleurd door onze ‘Westerse bril’?                                     
De avond wordt verrijkt met afbeeldingen, (korte) clips en ander beeldmateriaal dat nog maar weinig mensen gezien hebben. En natuurlijk de eigen ervaringen van Marc als bezoeker van Noord-Korea. 
Woensdag 13 november, Bibliotheek Muiden, aanvang 20.00 uur.                                             Entree €12,50, leden betalen € 10,-.
Kaarten zijn te koop via de balie en www.bibliotheekgooienmeer.nl 
LAST-MODIFIED:20260423T203929Z
LOCATION:Bibliotheek Muiden  Kazernestraat 10 1398an Muiden
SEQUENCE:0
STATUS:CONFIRMED
SUMMARY:Noord Korea "De verbeelde werkelijkheid"
TRANSP:OPAQUE
END:VEVENT
END:VCALENDAR
