BEGIN:VCALENDAR
PRODID:-//PUBBLE//enter agenda//NL
VERSION:2.0
METHOD:PUBLISH
BEGIN:VEVENT
DTSTART:20191110T073000Z
DTEND:20191110T123000Z
DTSTAMP:20260422T141842Z
UID:3013d96a-69bd-4e96-8699-256f9275536c
CREATED:20260422T141842Z
URL:https://www.weespfoto.nl/agenda/item/152586
NAME:Groepswandeling Wandelvierdaagse het Gooi weespfoto.nl
X-WR-CALNAME:Groepswandeling Wandelvierdaagse het Gooi weespfoto.nl
X-ALT-DESC;FMTTYPE=text/html:<a href='https://www.weespfoto.nl/agenda/item//152586'>https://weespfoto.nl/agenda/item//152586</a> || Groepswandeling 10 November
De eerste wandeling die op het programma staat gaat weer naar “Sportcentrum de Zandzee” in Bussum. De routes heen en terug zijn echter “op de schop gegaan”. De route is langer geworden, bijna 19 km, en gewijzigd. Op de heenweg gaan we over de Westerheide richting de Televisietoren in Hilversum. In de wijk hierachter wordt kort stilgestaan bij een markant gebouw uit de Tweede Wereldoorlog. Daarna gaat het door het Spanderswoud naar de “Franse Kamp” en “Sportcentrum de Zandzee”. Daar staat de koffie met koek klaar.
Na de pauze vertrekken we richting de oude watertoren en gaan over de Bussummerheide richting de Grintbank in Laren. Dan zijn we al weer snel terug in de kantine van SV Laren.
De praktische zaken in het kort. Start en Aankomst, kantine van SV Laren ’99, Schuilkerkpad 2, 1251 SC Laren. Inschrijven alleen op de zondag tussen 8.45 en 9.20, aan de tafel bij de ingang van de kantine. Het inschrijfgeld bedraagt € 3,50 en € 2,50 voor KWBN leden op vertoon van de actuele Wandelvoordeelpas van de KWBN. 
Vertrek, gezamenlijk, stipt om 9.30 uur. Honden mogen niet mee.
(Terugkomst circa 14.00 uur, indicatie geen garantie)
Disclaimer:
De wandelingen gaan door bij acceptabele weersomstandigheden, zulks ter beoordeling van het bestuur van de Stichting Wandelvierdaagse het Gooi.
U loopt op eigen risico

DESCRIPTION:<a href='https://www.weespfoto.nl/agenda/item//152586'>https://www.weespfoto.nl/agenda/item//152586</a> || Groepswandeling 10 November
De eerste wandeling die op het programma staat gaat weer naar “Sportcentrum de Zandzee” in Bussum. De routes heen en terug zijn echter “op de schop gegaan”. De route is langer geworden, bijna 19 km, en gewijzigd. Op de heenweg gaan we over de Westerheide richting de Televisietoren in Hilversum. In de wijk hierachter wordt kort stilgestaan bij een markant gebouw uit de Tweede Wereldoorlog. Daarna gaat het door het Spanderswoud naar de “Franse Kamp” en “Sportcentrum de Zandzee”. Daar staat de koffie met koek klaar.
Na de pauze vertrekken we richting de oude watertoren en gaan over de Bussummerheide richting de Grintbank in Laren. Dan zijn we al weer snel terug in de kantine van SV Laren.
De praktische zaken in het kort. Start en Aankomst, kantine van SV Laren ’99, Schuilkerkpad 2, 1251 SC Laren. Inschrijven alleen op de zondag tussen 8.45 en 9.20, aan de tafel bij de ingang van de kantine. Het inschrijfgeld bedraagt € 3,50 en € 2,50 voor KWBN leden op vertoon van de actuele Wandelvoordeelpas van de KWBN. 
Vertrek, gezamenlijk, stipt om 9.30 uur. Honden mogen niet mee.
(Terugkomst circa 14.00 uur, indicatie geen garantie)
Disclaimer:
De wandelingen gaan door bij acceptabele weersomstandigheden, zulks ter beoordeling van het bestuur van de Stichting Wandelvierdaagse het Gooi.
U loopt op eigen risico

LAST-MODIFIED:20260422T141842Z
LOCATION:SV Laren  Schuilkerkpad 2 1251SC Laren
SEQUENCE:0
STATUS:CONFIRMED
SUMMARY:Groepswandeling Wandelvierdaagse het Gooi
TRANSP:OPAQUE
END:VEVENT
END:VCALENDAR
