BEGIN:VCALENDAR
PRODID:-//PUBBLE//enter agenda//NL
VERSION:2.0
METHOD:PUBLISH
BEGIN:VEVENT
DTSTART:20191108T123000Z
DTEND:20191108T140000Z
DTSTAMP:20260421T115137Z
UID:6d55c421-98af-455d-8c14-6579863ee84d
CREATED:20260421T115137Z
URL:https://www.weespfoto.nl/agenda/item/152680
NAME:Lezing 'Muiderslot' in Vivium De Gooise Warande weespfoto.nl
X-WR-CALNAME:Lezing 'Muiderslot' in Vivium De Gooise Warande weespfoto.nl
X-ALT-DESC;FMTTYPE=text/html:<a href='https://www.weespfoto.nl/agenda/item//152680'>https://weespfoto.nl/agenda/item//152680</a> || Vrijdag 8 november kunt u komen kijken en luisteren naar de lezing over het Muiderslot, een slot met een zeer rijke geschiedenis. Komt u ook?<br /><br /><br />
DESCRIPTION:<a href='https://www.weespfoto.nl/agenda/item//152680'>https://www.weespfoto.nl/agenda/item//152680</a> || Vrijdag 8 november kunt u komen kijken en luisteren naar de lezing over het Muiderslot, een slot met een zeer rijke geschiedenis. Komt u ook?
LAST-MODIFIED:20260421T115137Z
LOCATION:Vivium De Gooise Warande Mezenlaan 19 1403br Bussum
SEQUENCE:0
STATUS:CONFIRMED
SUMMARY:Lezing 'Muiderslot' in Vivium De Gooise Warande
TRANSP:OPAQUE
END:VEVENT
END:VCALENDAR
