BEGIN:VCALENDAR
PRODID:-//PUBBLE//enter agenda//NL
VERSION:2.0
METHOD:PUBLISH
BEGIN:VEVENT
DTSTART:20191114T120000Z
DTEND:20191114T130000Z
DTSTAMP:20260424T071839Z
UID:af38e6dc-88bf-4b84-b543-a3a846e2e25c
CREATED:20260424T071839Z
URL:https://www.weespfoto.nl/agenda/item/152686
NAME:Bewegen op muziek in Vivium Oversingel weespfoto.nl
X-WR-CALNAME:Bewegen op muziek in Vivium Oversingel weespfoto.nl
X-ALT-DESC;FMTTYPE=text/html:<a href='https://www.weespfoto.nl/agenda/item//152686'>https://weespfoto.nl/agenda/item//152686</a> || <p>Komt u donderdag 14 november ook gezellig langs om te luisteren en bewegen op muziek? U bent van harte welkom!</p><p><br></p><p><br></p>
DESCRIPTION:<a href='https://www.weespfoto.nl/agenda/item//152686'>https://www.weespfoto.nl/agenda/item//152686</a> || Komt u donderdag 14 november ook gezellig langs om te luisteren en bewegen op muziek? U bent van harte welkom!
LAST-MODIFIED:20260424T071839Z
LOCATION:Vivium Oversingel Hugo de Grootlaan  30 1381de Weesp
SEQUENCE:0
STATUS:CONFIRMED
SUMMARY:Bewegen op muziek in Vivium Oversingel
TRANSP:OPAQUE
END:VEVENT
END:VCALENDAR
