BEGIN:VCALENDAR
PRODID:-//PUBBLE//enter agenda//NL
VERSION:2.0
METHOD:PUBLISH
BEGIN:VEVENT
DTSTART:20191114T083000Z
DTEND:20191114T093000Z
DTSTAMP:20260424T041322Z
UID:832988e3-28f9-41df-89b3-c295c8e0a126
CREATED:20260424T041322Z
URL:https://www.weespfoto.nl/agenda/item/152687
NAME:Voorleesochtend in Vivium Oversingel weespfoto.nl
X-WR-CALNAME:Voorleesochtend in Vivium Oversingel weespfoto.nl
X-ALT-DESC;FMTTYPE=text/html:<a href='https://www.weespfoto.nl/agenda/item//152687'>https://weespfoto.nl/agenda/item//152687</a> || <p>Zoek een fijne ontspannen plek op de 3e Etage voor de voorleesochtenden op 14 en 28 november.</p><p><br></p><p><br></p>
DESCRIPTION:<a href='https://www.weespfoto.nl/agenda/item//152687'>https://www.weespfoto.nl/agenda/item//152687</a> || Zoek een fijne ontspannen plek op de 3e Etage voor de voorleesochtenden op 14 en 28 november.
LAST-MODIFIED:20260424T041322Z
LOCATION:Vivium Oversingel Hugo de Grootlaan  30 1381de Weesp
SEQUENCE:0
STATUS:CONFIRMED
SUMMARY:Voorleesochtend in Vivium Oversingel
TRANSP:OPAQUE
END:VEVENT
END:VCALENDAR
