BEGIN:VCALENDAR
PRODID:-//PUBBLE//enter agenda//NL
VERSION:2.0
METHOD:PUBLISH
BEGIN:VEVENT
DTSTART:20191215T173000Z
DTEND:20191215T183000Z
DTSTAMP:20260426T015321Z
UID:ae418112-0e93-42f4-a214-17dc3b19aea5
CREATED:20260426T015321Z
URL:https://www.weespfoto.nl/agenda/item/152779
NAME:Festival of Lessons and Carols weespfoto.nl
X-WR-CALNAME:Festival of Lessons and Carols weespfoto.nl
X-ALT-DESC;FMTTYPE=text/html:<a href='https://www.weespfoto.nl/agenda/item//152779'>https://weespfoto.nl/agenda/item//152779</a> || <p>Op zondagavond 15 december vindt traditiegetrouw in de Grote Kerk in Weesp weer het jaarlijkse Festival of Lessons and Carols plaats. Een sfeervol programma van Engelse christmas carols, afgewisseld met korte lezingen. De beste manier om de kersttijd in te gaan. De aanvang is 19.30, de kerk gaat open om 19.00 uur. </p>
DESCRIPTION:<a href='https://www.weespfoto.nl/agenda/item//152779'>https://www.weespfoto.nl/agenda/item//152779</a> || Op zondagavond 15 december vindt traditiegetrouw in de Grote Kerk in Weesp weer het jaarlijkse Festival of Lessons and Carols plaats. Een sfeervol programma van Engelse christmas carols, afgewisseld met korte lezingen. De beste manier om de kersttijd in te gaan. De aanvang is 19.30, de kerk gaat open om 19.00 uur. 
LAST-MODIFIED:20260426T015321Z
LOCATION:Grote Kerk Nieuwstraat 31 Nieuwstraat 31 1380GB Weesp
SEQUENCE:0
STATUS:CONFIRMED
SUMMARY:Festival of Lessons and Carols
TRANSP:OPAQUE
END:VEVENT
END:VCALENDAR
