BEGIN:VCALENDAR
PRODID:-//PUBBLE//enter agenda//NL
VERSION:2.0
METHOD:PUBLISH
BEGIN:VEVENT
DTSTART:20191113T080000Z
DTEND:20191113T140000Z
DTSTAMP:20260423T110513Z
UID:6b1be4a7-6b71-48bb-8193-9fa6b1e9d9cb
CREATED:20260423T110513Z
URL:https://www.weespfoto.nl/agenda/item/152981
NAME:Wintermarkt in Oversingel weespfoto.nl
X-WR-CALNAME:Wintermarkt in Oversingel weespfoto.nl
X-ALT-DESC;FMTTYPE=text/html:<a href='https://www.weespfoto.nl/agenda/item//152981'>https://weespfoto.nl/agenda/item//152981</a> || <p>Woensdag 13 november is er weer een wintermarkt in Oversingel van 10.00 uur tot 16.00 uur. Er staan diverse kraampjes waar u allerlei spullen kunt kopen. Ook kunt u weer loodjes kopen voor de loterij. Vanaf 12.00 uur tot 16.30 uur kunt u ook genieten van heerlijke traditionele Hollandse winterse gerechten. Bel naar 0294-4239656 of kijk op <a href="//www.vivium.nl">www.vivium.nl</a>.</p>
DESCRIPTION:<a href='https://www.weespfoto.nl/agenda/item//152981'>https://www.weespfoto.nl/agenda/item//152981</a> || Woensdag 13 november is er weer een wintermarkt in Oversingel van 10.00 uur tot 16.00 uur. Er staan diverse kraampjes waar u allerlei spullen kunt kopen. Ook kunt u weer loodjes kopen voor de loterij. Vanaf 12.00 uur tot 16.30 uur kunt u ook genieten van heerlijke traditionele Hollandse winterse gerechten. Bel naar 0294-4239656 of kijk op www.vivium.nl.
LAST-MODIFIED:20260423T110513Z
LOCATION:Vivium Oversingel Hugo de Grootlaan  30 1381de Weesp
SEQUENCE:0
STATUS:CONFIRMED
SUMMARY:Wintermarkt in Oversingel
TRANSP:OPAQUE
END:VEVENT
END:VCALENDAR
