BEGIN:VCALENDAR
PRODID:-//PUBBLE//enter agenda//NL
VERSION:2.0
METHOD:PUBLISH
BEGIN:VEVENT
DTSTART:20191124T133000Z
DTEND:20191124T153000Z
DTSTAMP:20260425T145545Z
UID:03fa74ef-19e3-4041-bb06-c769a146a059
CREATED:20260425T145545Z
URL:https://www.weespfoto.nl/agenda/item/153010
NAME:Jazzconcert Simone Honijk Kwartet weespfoto.nl
X-WR-CALNAME:Jazzconcert Simone Honijk Kwartet weespfoto.nl
X-ALT-DESC;FMTTYPE=text/html:<a href='https://www.weespfoto.nl/agenda/item//153010'>https://weespfoto.nl/agenda/item//153010</a> || <p>JAZZCONCERT SIMONE HONIJK KWARTET IN HET PLOFHUIS zondag 24 november 2019 15.30 uur Simone Honijk - zang Orjan Graafmans - piano Sven Schuster - bas Nien van Wiggen - drums Gastsolist : Paul van der Feen op saxofoon Kaarten bij de ingang of via kaartverkoop@plofhuis7.nl. Toegangsprijs €10,-. Fort Uitermeer, Uitermeer 5,1381HP Weesp</p>
DESCRIPTION:<a href='https://www.weespfoto.nl/agenda/item//153010'>https://www.weespfoto.nl/agenda/item//153010</a> || JAZZCONCERT SIMONE HONIJK KWARTET IN HET PLOFHUIS zondag 24 november 2019 15.30 uur Simone Honijk - zang Orjan Graafmans - piano Sven Schuster - bas Nien van Wiggen - drums Gastsolist : Paul van der Feen op saxofoon Kaarten bij de ingang of via kaartverkoop@plofhuis7.nl. Toegangsprijs €10,-. Fort Uitermeer, Uitermeer 5,1381HP Weesp
LAST-MODIFIED:20260425T145545Z
LOCATION:Plofhuis7 Uitermeer 5 Uitermeer 5 1381hp Weesp
SEQUENCE:0
STATUS:CONFIRMED
SUMMARY:Jazzconcert Simone Honijk Kwartet
TRANSP:OPAQUE
END:VEVENT
END:VCALENDAR
