BEGIN:VCALENDAR
PRODID:-//PUBBLE//enter agenda//NL
VERSION:2.0
METHOD:PUBLISH
BEGIN:VEVENT
DTSTART:20191123T130000Z
DTEND:20191123T150000Z
DTSTAMP:20260424T182951Z
UID:87066132-ddf3-4cba-afa9-8cd15c596ac0
CREATED:20260424T182951Z
URL:https://www.weespfoto.nl/agenda/item/153337
NAME:Opening Expositie | Muziek in Weesp | Museum Weesp | 14.00 uur weespfoto.nl
X-WR-CALNAME:Opening Expositie | Muziek in Weesp | Museum Weesp | 14.00 uur weespfoto.nl
X-ALT-DESC;FMTTYPE=text/html:<a href='https://www.weespfoto.nl/agenda/item//153337'>https://weespfoto.nl/agenda/item//153337</a> || <p>Museum Weesp en Stichting Jubal nodigen u uit voor een bijzonder concert ter ere van de opening van de expositie:<br>
			
			<br>
			
			<strong>'MUZIEK in WEESP'</strong>
			<br>
			
			<br>			15.30 uur start programma in Grote Kerk | concert met 200 zangers van acht Weesper koren, olv Marco de Jong, piano Hugo de Graaff, </p>
		<p>16.45 uur einde programma</p>
		<p>Wij hopen op uw komst, entree gratis, opgave voor deelname is niet nodig.</p>
DESCRIPTION:<a href='https://www.weespfoto.nl/agenda/item//153337'>https://www.weespfoto.nl/agenda/item//153337</a> || Museum Weesp en Stichting Jubal nodigen u uit voor een bijzonder concert ter ere van de opening van de expositie:
			
			
			
			'MUZIEK in WEESP'
			
			
						15.30 uur start programma in Grote Kerk | concert met 200 zangers van acht Weesper koren, olv Marco de Jong, piano Hugo de Graaff, 
		16.45 uur einde programma
		Wij hopen op uw komst, entree gratis, opgave voor deelname is niet nodig.
LAST-MODIFIED:20260424T182951Z
LOCATION:Museum Weesp, Nieuwstraat 41 Nieuwstraat 41 1381bd Weesp
SEQUENCE:0
STATUS:CONFIRMED
SUMMARY:Opening Expositie | Muziek in Weesp | Museum Weesp | 14.00 uur
TRANSP:OPAQUE
END:VEVENT
END:VCALENDAR
