BEGIN:VCALENDAR
PRODID:-//PUBBLE//enter agenda//NL
VERSION:2.0
METHOD:PUBLISH
BEGIN:VEVENT
DTSTART:20191215T170000Z
DTEND:20191215T183000Z
DTSTAMP:20260426T001103Z
UID:275331ca-924b-4979-a166-d21d0acac216
CREATED:20260426T001103Z
URL:https://www.weespfoto.nl/agenda/item/153538
NAME:Volkskerstzang 2019 weespfoto.nl
X-WR-CALNAME:Volkskerstzang 2019 weespfoto.nl
X-ALT-DESC;FMTTYPE=text/html:<a href='https://www.weespfoto.nl/agenda/item//153538'>https://weespfoto.nl/agenda/item//153538</a> || <p>Op zondag 15 december 2019 zal weer de jaarlijkse volkskerstzang worden gehouden in de St.Vituskerk aan de Emmastraat. Medewerking hieraan wordt onder andere verleend door pastoor J.P.M. Dresmé, burgemeester P.I. Broertjes, de tenor Pim Liekamm en het Gooisch Fanfare Orkest. Uiteraard is er samenzang van bekende kerstliederen onder begeleiding van het orkest. De Volkskerstzang begint om 19:00 en de toegang is gratis,</p>
DESCRIPTION:<a href='https://www.weespfoto.nl/agenda/item//153538'>https://www.weespfoto.nl/agenda/item//153538</a> || Op zondag 15 december 2019 zal weer de jaarlijkse volkskerstzang worden gehouden in de St.Vituskerk aan de Emmastraat. Medewerking hieraan wordt onder andere verleend door pastoor J.P.M. Dresmé, burgemeester P.I. Broertjes, de tenor Pim Liekamm en het Gooisch Fanfare Orkest. Uiteraard is er samenzang van bekende kerstliederen onder begeleiding van het orkest. De Volkskerstzang begint om 19:00 en de toegang is gratis,
LAST-MODIFIED:20260426T001103Z
LOCATION:Sint Vituskerk Emmastraat 5 1211ne Hilversum
SEQUENCE:0
STATUS:CONFIRMED
SUMMARY:Volkskerstzang 2019
TRANSP:OPAQUE
END:VEVENT
END:VCALENDAR
