BEGIN:VCALENDAR
PRODID:-//PUBBLE//enter agenda//NL
VERSION:2.0
METHOD:PUBLISH
BEGIN:VEVENT
DTSTART:20191124T070000Z
DTEND:20191124T093000Z
DTSTAMP:20260424T230752Z
UID:1dd09504-075d-4cfb-be7c-e5ae6323f67c
CREATED:20260424T230752Z
URL:https://www.weespfoto.nl/agenda/item/153850
NAME:Natuurmeditatie weespfoto.nl
X-WR-CALNAME:Natuurmeditatie weespfoto.nl
X-ALT-DESC;FMTTYPE=text/html:<a href='https://www.weespfoto.nl/agenda/item//153850'>https://weespfoto.nl/agenda/item//153850</a> || <p>Graag neem ik je mee voor een samenzijn in de natuur. Kom je ook? We starten met een stille loopmeditatie van ongeveer 20 minuten. Op een mooie plek met bos en hei komen we samen in een cirkel en zingen we een aantal (eenvoudige) mantra’s en/of liederen. We openen ons voor dat wat er is, in ons en om ons heen. Van hieruit vindt eenieder zijn of haar plek in de natuur met een intentie of vraag. We laten de natuur tot ons spreken. Laten we stil zijn en luisteren. Daarna komen we weer samen in de cirkel en sluiten we gezamenlijk af met koffie/thee en iets lekkers. Iedereen is welkom, ook als je niet bekend bent met mij of meditatie of mantra’s. Wanneer: zondag 24 november 2019. Tijd: van 9.00-11.30/12.00. Locatie startpunt: we verzamelen voor restaurant Heidezicht, Randweg 203 in Bussum. Bijdrage: 15 euro. Opgave: app/bel 06 38 26 13 99. Bij regenachtig weer gaat het niet door. Graag tot ziens. Hartelijke groet, Akasha van den Berg. www.zijnmetwatis.nl </p>
DESCRIPTION:<a href='https://www.weespfoto.nl/agenda/item//153850'>https://www.weespfoto.nl/agenda/item//153850</a> || Graag neem ik je mee voor een samenzijn in de natuur. Kom je ook? We starten met een stille loopmeditatie van ongeveer 20 minuten. Op een mooie plek met bos en hei komen we samen in een cirkel en zingen we een aantal (eenvoudige) mantra’s en/of liederen. We openen ons voor dat wat er is, in ons en om ons heen. Van hieruit vindt eenieder zijn of haar plek in de natuur met een intentie of vraag. We laten de natuur tot ons spreken. Laten we stil zijn en luisteren. Daarna komen we weer samen in de cirkel en sluiten we gezamenlijk af met koffie/thee en iets lekkers. Iedereen is welkom, ook als je niet bekend bent met mij of meditatie of mantra’s. Wanneer: zondag 24 november 2019. Tijd: van 9.00-11.30/12.00. Locatie startpunt: we verzamelen voor restaurant Heidezicht, Randweg 203 in Bussum. Bijdrage: 15 euro. Opgave: app/bel 06 38 26 13 99. Bij regenachtig weer gaat het niet door. Graag tot ziens. Hartelijke groet, Akasha van den Berg. www.zijnmetwatis.nl 
LAST-MODIFIED:20260424T230752Z
LOCATION:Praktijk Zijn met wat is Prinses Margrietplantsoen 77 Prinses Margrietplantsoen 77 1403SW Bussum
SEQUENCE:0
STATUS:CONFIRMED
SUMMARY:Natuurmeditatie
TRANSP:OPAQUE
END:VEVENT
END:VCALENDAR
