BEGIN:VCALENDAR
PRODID:-//PUBBLE//enter agenda//NL
VERSION:2.0
METHOD:PUBLISH
BEGIN:VEVENT
DTSTART:20191213T071700Z
DTEND:20191222T193000Z
DTSTAMP:20260425T162009Z
UID:42892965-db03-4843-99ec-9464b378f3c3
CREATED:20260425T162009Z
URL:https://www.weespfoto.nl/agenda/item/154644
NAME:Kerst op de Vuurlinie | Vaar mee op 13-14-15 en 20-21-22 december weespfoto.nl
X-WR-CALNAME:Kerst op de Vuurlinie | Vaar mee op 13-14-15 en 20-21-22 december weespfoto.nl
X-ALT-DESC;FMTTYPE=text/html:<a href='https://www.weespfoto.nl/agenda/item//154644'>https://weespfoto.nl/agenda/item//154644</a> || <p>Ontdek Weesp vanaf het water. Met de Vuurlinie in kerstsfeer en een tafel vol hapjes vaart de Vuurlinie zo'n 1,5 uur over de Vecht richting Fort Uitermeer. We komen langs prachtige huizen, woonboten en historische gebouwen zoals het oude zwembad en de nog draaiende&nbsp;molen de Vriendschap&nbsp;Nu niet te zien in daglicht maar mooi verlicht in het donkere winterlandschap.<br>
			
			<br>			Op de verwarmde boot word je verwend met de Weesper specialiteiten die onderdeel uitmaken van deze kerstvaart. Zo krijg je het beroemde broodje bal van 't Helletjs, de al even beroemde erwtensoep van slagerij Van Donk met een heerlijk stukje roggebrood van het Backhuys. JJ Vishandel laat je genieten van toast met vis, de Groene Griffioen biedt een stukje kaas en Patisserie Boom biedt een Weesper makaron. De koffie komt van Moyee en daar hoort natuurlijk een Weesper mop bij van Bakkerij Muhl. Dit alles wordt vergezeld van bier, wijn, fris en glühwein want we zijn tenslotte in Winterse sferen.</p>
		<p>
			<strong>DATA EN TIJDEN</strong>
			<br>			13, 14, 15 december<br>			20, 21, 22 december<br>
			
			<br>			1e afvaart : 17.00 uur<br>			2e afvaart : 19.00 uur</p>
		<p>
			<strong>CONTACT</strong>
			<br>			Voor vragen over de [bestelde] tickets kunt u contact opnemen met Jacob Honing<br>			mail | jacob@weespmarketing.nl<br>			telefoon | 06-51381400<br>
			
			<br>
			
			<strong>OP&amp;AFSTAP PLAATS</strong>
			<br>			De steiger bij Molen de Vriendschap,Utrechtseweg 11A Weesp<br>
			
			<br>			Wat een mooi arrangement voor slechts 15,- per persoon. Dit wil je niet missen dus koop <a href="http://welkominweesp.nl/woensdag-arrangement.html" rel="noopener noreferrer" target="_blank">&nbsp;<strong>&nbsp;<u>HIER</u>&nbsp;</strong>&nbsp;</a> je ticket(s).<br>
			
			<br>			
		</p>
DESCRIPTION:<a href='https://www.weespfoto.nl/agenda/item//154644'>https://www.weespfoto.nl/agenda/item//154644</a> || Ontdek Weesp vanaf het water. Met de Vuurlinie in kerstsfeer en een tafel vol hapjes vaart de Vuurlinie zo'n 1,5 uur over de Vecht richting Fort Uitermeer. We komen langs prachtige huizen, woonboten en historische gebouwen zoals het oude zwembad en de nog draaiende molen de Vriendschap Nu niet te zien in daglicht maar mooi verlicht in het donkere winterlandschap.
			
						Op de verwarmde boot word je verwend met de Weesper specialiteiten die onderdeel uitmaken van deze kerstvaart. Zo krijg je het beroemde broodje bal van 't Helletjs, de al even beroemde erwtensoep van slagerij Van Donk met een heerlijk stukje roggebrood van het Backhuys. JJ Vishandel laat je genieten van toast met vis, de Groene Griffioen biedt een stukje kaas en Patisserie Boom biedt een Weesper makaron. De koffie komt van Moyee en daar hoort natuurlijk een Weesper mop bij van Bakkerij Muhl. Dit alles wordt vergezeld van bier, wijn, fris en glühwein want we zijn tenslotte in Winterse sferen.
		
			DATA EN TIJDEN
						13, 14, 15 december			20, 21, 22 december
			
						1e afvaart : 17.00 uur			2e afvaart : 19.00 uur
		
			CONTACT
						Voor vragen over de [bestelde] tickets kunt u contact opnemen met Jacob Honing			mail | jacob@weespmarketing.nl			telefoon | 06-51381400
			
			
			
			OP&AFSTAP PLAATS
						De steiger bij Molen de Vriendschap,Utrechtseweg 11A Weesp
			
						Wat een mooi arrangement voor slechts 15,- per persoon. Dit wil je niet missen dus koop   HIER   je ticket(s).
			
						
		
LAST-MODIFIED:20260425T162009Z
LOCATION:Korenmolen De Vriendschap Utrechtseweg 11a Utrechtseweg 11a 1381gr Weesp
SEQUENCE:0
STATUS:CONFIRMED
SUMMARY:Kerst op de Vuurlinie | Vaar mee op 13-14-15 en 20-21-22 december
TRANSP:OPAQUE
END:VEVENT
END:VCALENDAR
