BEGIN:VCALENDAR
PRODID:-//PUBBLE//enter agenda//NL
VERSION:2.0
METHOD:PUBLISH
BEGIN:VEVENT
DTSTART:20191215T133000Z
DTEND:20191215T160000Z
DTSTAMP:20260425T193527Z
UID:fd914996-8cda-45e7-b81f-03f8342dea20
CREATED:20260425T193527Z
URL:https://www.weespfoto.nl/agenda/item/155070
NAME:Santa Run Hilversum weespfoto.nl
X-WR-CALNAME:Santa Run Hilversum weespfoto.nl
X-ALT-DESC;FMTTYPE=text/html:<a href='https://www.weespfoto.nl/agenda/item//155070'>https://weespfoto.nl/agenda/item//155070</a> || <p>Geachte Redactie,

Op zondag 15 december 2019 vindt alweer de 4de editie van de Santa Run Hilversum 
plaats: toch wel zo'n beetje het leukste winterevenement in het centrum van Hilversum. 
De warming up is om 15:30 en de start om 16:00.

Honderden als Kerstman of Kerstvrouw verklede deelnemers leggen het 3 km lange parcours 
af. De run start dit jaar weer op het Marktplein bij Foodhall MOUT waar ook de finish zal zijn. 

Een schitterende happening voor jong en oud waarbij de opbrengst bestemd is voor een tweetal 
Goede Doelen: Internationaal Rolstoel-tennisster met Olympische ambities Wendi Schutte uit 
Hilversum en de Landelijke Nierstichting. 

Gezinnen, vrienden, sportclubs, klasgenoten of collega’s: iedereen is van harte uitgenodigd om 
deel te nemen aan deze gezellige en sfeervolle happening. En.. niemand minder dan onze eigen 
burgemeester Pieter Broertjes luidt de startbel onder de startboog op het marktplein.

Het inschrijfgeld bedraagt €12,50 voor volwassen en €7,50 voor kinderen tot 1.35m inclusief 
kerstpak en startnummer. Bij de finish ontvangt elke deelnemer een medaille! De pakken en 
startnummers zijn af te halen vanaf dinsdag 10 december 2019 bij Run2Day, ’s Gravelandseweg 27 
te Hilversum.

De inschrijving sluit 14 december om 23:59 maar er zullen ook nog beperkt pakken beschikbaar 
zijn op zondag 15 december bij Mout.

</p>
DESCRIPTION:<a href='https://www.weespfoto.nl/agenda/item//155070'>https://www.weespfoto.nl/agenda/item//155070</a> || Geachte Redactie,

Op zondag 15 december 2019 vindt alweer de 4de editie van de Santa Run Hilversum 
plaats: toch wel zo'n beetje het leukste winterevenement in het centrum van Hilversum. 
De warming up is om 15:30 en de start om 16:00.

Honderden als Kerstman of Kerstvrouw verklede deelnemers leggen het 3 km lange parcours 
af. De run start dit jaar weer op het Marktplein bij Foodhall MOUT waar ook de finish zal zijn. 

Een schitterende happening voor jong en oud waarbij de opbrengst bestemd is voor een tweetal 
Goede Doelen: Internationaal Rolstoel-tennisster met Olympische ambities Wendi Schutte uit 
Hilversum en de Landelijke Nierstichting. 

Gezinnen, vrienden, sportclubs, klasgenoten of collega’s: iedereen is van harte uitgenodigd om 
deel te nemen aan deze gezellige en sfeervolle happening. En.. niemand minder dan onze eigen 
burgemeester Pieter Broertjes luidt de startbel onder de startboog op het marktplein.

Het inschrijfgeld bedraagt €12,50 voor volwassen en €7,50 voor kinderen tot 1.35m inclusief 
kerstpak en startnummer. Bij de finish ontvangt elke deelnemer een medaille! De pakken en 
startnummers zijn af te halen vanaf dinsdag 10 december 2019 bij Run2Day, ’s Gravelandseweg 27 
te Hilversum.

De inschrijving sluit 14 december om 23:59 maar er zullen ook nog beperkt pakken beschikbaar 
zijn op zondag 15 december bij Mout.


LAST-MODIFIED:20260425T193527Z
LOCATION:Centrum Hilversum Koninginneweg 41 1217kt Hilversum
SEQUENCE:0
STATUS:CONFIRMED
SUMMARY:Santa Run Hilversum
TRANSP:OPAQUE
END:VEVENT
END:VCALENDAR
