BEGIN:VCALENDAR
PRODID:-//PUBBLE//enter agenda//NL
VERSION:2.0
METHOD:PUBLISH
BEGIN:VEVENT
DTSTART:20191216T080000Z
DTEND:20191216T090000Z
DTSTAMP:20260426T032550Z
UID:c3d70f02-aa5e-4181-8be2-03139465ff78
CREATED:20260426T032550Z
URL:https://www.weespfoto.nl/agenda/item/155271
NAME:Kinderen komen met Kerstwensen weespfoto.nl
X-WR-CALNAME:Kinderen komen met Kerstwensen weespfoto.nl
X-ALT-DESC;FMTTYPE=text/html:<a href='https://www.weespfoto.nl/agenda/item//155271'>https://weespfoto.nl/agenda/item//155271</a> || Kerst is een mooi moment om elkaar het beste toe te wensen. Het brengt ons samen, jong en oud.<br /><br /><br />
DESCRIPTION:<a href='https://www.weespfoto.nl/agenda/item//155271'>https://www.weespfoto.nl/agenda/item//155271</a> || Kerst is een mooi moment om elkaar het beste toe te wensen. Het brengt ons samen, jong en oud.
LAST-MODIFIED:20260426T032550Z
LOCATION:    
SEQUENCE:0
STATUS:CONFIRMED
SUMMARY:Kinderen komen met Kerstwensen
TRANSP:OPAQUE
END:VEVENT
END:VCALENDAR
