BEGIN:VCALENDAR
PRODID:-//PUBBLE//enter agenda//NL
VERSION:2.0
METHOD:PUBLISH
BEGIN:VEVENT
DTSTART:20191215T160000Z
DTEND:20191215T173000Z
DTSTAMP:20260425T223607Z
UID:1a6c3600-c121-43fc-8cd7-46dac97f9904
CREATED:20260425T223607Z
URL:https://www.weespfoto.nl/agenda/item/155558
NAME:The God of ancient China weespfoto.nl
X-WR-CALNAME:The God of ancient China weespfoto.nl
X-ALT-DESC;FMTTYPE=text/html:<a href='https://www.weespfoto.nl/agenda/item//155558'>https://weespfoto.nl/agenda/item//155558</a> || <p>Learn more about the history of the oldest civilization on earth in this inspiring movie .
what was the inspiration of ancient China?
Sun. 15-12 18:00 hr.
P. Planciusplein 12, Hilversum
info:06-51507971</p>
DESCRIPTION:<a href='https://www.weespfoto.nl/agenda/item//155558'>https://www.weespfoto.nl/agenda/item//155558</a> || Learn more about the history of the oldest civilization on earth in this inspiring movie .
what was the inspiration of ancient China?
Sun. 15-12 18:00 hr.
P. Planciusplein 12, Hilversum
info:06-51507971
LAST-MODIFIED:20260425T223607Z
LOCATION:    
SEQUENCE:0
STATUS:CONFIRMED
SUMMARY:The God of ancient China
TRANSP:OPAQUE
END:VEVENT
END:VCALENDAR
