BEGIN:VCALENDAR
PRODID:-//PUBBLE//enter agenda//NL
VERSION:2.0
METHOD:PUBLISH
BEGIN:VEVENT
DTSTART:20191215T140000Z
DTEND:20191215T163000Z
DTSTAMP:20260425T210035Z
UID:bb48ff3e-fb47-4e18-9e29-2196effadbe1
CREATED:20260425T210035Z
URL:https://www.weespfoto.nl/agenda/item/155733
NAME:Jazz & Drinks Diemen weespfoto.nl
X-WR-CALNAME:Jazz & Drinks Diemen weespfoto.nl
X-ALT-DESC;FMTTYPE=text/html:<a href='https://www.weespfoto.nl/agenda/item//155733'>https://weespfoto.nl/agenda/item//155733</a> || <p>Namens Studio DMN organiseert Sophie Tjebbes een zesdelige reeks jazzconcerten die op de zondagmiddag plaatsvinden in Café Blauw in Theater De Omval. De serie heeft de naam: Jazz & Drinks Diemen. Burgemeester Erik Boog opende de reeks op zondagmiddag 15 oktober.

Deze eerste editie was een groot succes. Miguel Martinez, bekend van de New Cool Collective, beet het spits af, special guest Esmee Bor zong een aantal nummers mee. Goede jazzmuzikanten kwamen op het event af om mee te jammen.

Op 15 december zingt Bellita Carol met haar prachtige stem beïnvloed door soul, gospel en reggae.

Sophie: "Het is een erg leuk nieuw event in Diemen, iedereen is welkom, toegang is gratis. Jazzmuzikanten en conservatoriumstudenten zijn welkom om mee te komen jammen. Café Blauw zal speciaal voor deze gelegenheid ook vegan snacks serveren, zoals bitterballen en broodjes kroket. Dus muziek en gezelligheid met een duurzaam tintje. Bovendien zal er tijdens de concertreeks een wijnproeverij zijn."</p>
DESCRIPTION:<a href='https://www.weespfoto.nl/agenda/item//155733'>https://www.weespfoto.nl/agenda/item//155733</a> || Namens Studio DMN organiseert Sophie Tjebbes een zesdelige reeks jazzconcerten die op de zondagmiddag plaatsvinden in Café Blauw in Theater De Omval. De serie heeft de naam: Jazz & Drinks Diemen. Burgemeester Erik Boog opende de reeks op zondagmiddag 15 oktober.

Deze eerste editie was een groot succes. Miguel Martinez, bekend van de New Cool Collective, beet het spits af, special guest Esmee Bor zong een aantal nummers mee. Goede jazzmuzikanten kwamen op het event af om mee te jammen.

Op 15 december zingt Bellita Carol met haar prachtige stem beïnvloed door soul, gospel en reggae.

Sophie: "Het is een erg leuk nieuw event in Diemen, iedereen is welkom, toegang is gratis. Jazzmuzikanten en conservatoriumstudenten zijn welkom om mee te komen jammen. Café Blauw zal speciaal voor deze gelegenheid ook vegan snacks serveren, zoals bitterballen en broodjes kroket. Dus muziek en gezelligheid met een duurzaam tintje. Bovendien zal er tijdens de concertreeks een wijnproeverij zijn."
LAST-MODIFIED:20260425T210035Z
LOCATION:Theater de Omval Ouddiemerlaan 104 1111HL Diemen
SEQUENCE:0
STATUS:CONFIRMED
SUMMARY:Jazz & Drinks Diemen
TRANSP:OPAQUE
END:VEVENT
END:VCALENDAR
