BEGIN:VCALENDAR
PRODID:-//PUBBLE//enter agenda//NL
VERSION:2.0
METHOD:PUBLISH
BEGIN:VEVENT
DTSTART:20191215T130000Z
DTEND:20191215T140000Z
DTSTAMP:20260425T175856Z
UID:687e72aa-59f9-4a02-82dc-7890f56ad6ec
CREATED:20260425T175856Z
URL:https://www.weespfoto.nl/agenda/item/155930
NAME:Rondleiding door museum weespfoto.nl
X-WR-CALNAME:Rondleiding door museum weespfoto.nl
X-ALT-DESC;FMTTYPE=text/html:<a href='https://www.weespfoto.nl/agenda/item//155930'>https://weespfoto.nl/agenda/item//155930</a> || <p>Elke zondag om 15.00 uur is er een rondleiding door het stijlvolle stadhuis van Weesp. Kom te weten wie het prachtige stadhuis van Weesp heeft ontworpen en hoor meer over de historie van het stadhuis. De rondleiding door het stadhuis duurt 1 uur en kost € 2,- p.p. (+ entree museum)</p>
DESCRIPTION:<a href='https://www.weespfoto.nl/agenda/item//155930'>https://www.weespfoto.nl/agenda/item//155930</a> || Elke zondag om 15.00 uur is er een rondleiding door het stijlvolle stadhuis van Weesp. Kom te weten wie het prachtige stadhuis van Weesp heeft ontworpen en hoor meer over de historie van het stadhuis. De rondleiding door het stadhuis duurt 1 uur en kost € 2,- p.p. (+ entree museum)
LAST-MODIFIED:20260425T175856Z
LOCATION:Museum Weesp, Nieuwstraat 41 Nieuwstraat 41 1381bd Weesp
SEQUENCE:0
STATUS:CONFIRMED
SUMMARY:Rondleiding door museum
TRANSP:OPAQUE
END:VEVENT
END:VCALENDAR
