BEGIN:VCALENDAR
PRODID:-//PUBBLE//enter agenda//NL
VERSION:2.0
METHOD:PUBLISH
BEGIN:VEVENT
DTSTART:20240626T080000Z
DTEND:20250625T220000Z
DTSTAMP:20260423T221859Z
UID:58e68ab5-ea90-4d47-b1f9-9099ba4bea16
CREATED:20260423T221859Z
URL:https://www.weespfoto.nl/agenda/item/296393
NAME:Geef-en-neemwinkel weespfoto.nl
X-WR-CALNAME:Geef-en-neemwinkel weespfoto.nl
X-ALT-DESC;FMTTYPE=text/html:<a href='https://www.weespfoto.nl/agenda/item//296393'>https://weespfoto.nl/agenda/item//296393</a> || <p>Kleding, kleine huishoudelijke artikelen, boeken en spelletjes kunt u inbrengen in onze Geef- en Neemwinkel. U kunt dan weer iets anders mee naar huis nemen. Alle spullen zijn € 0,50 per stuk, tenzij anders geprijsd. U bent van harte welkom! Maandag en donderdag van 10:00 - 12:00 uur.</p>
DESCRIPTION:<a href='https://www.weespfoto.nl/agenda/item//296393'>https://www.weespfoto.nl/agenda/item//296393</a> || Kleding, kleine huishoudelijke artikelen, boeken en spelletjes kunt u inbrengen in onze Geef- en Neemwinkel. U kunt dan weer iets anders mee naar huis nemen. Alle spullen zijn € 0,50 per stuk, tenzij anders geprijsd. U bent van harte welkom! Maandag en donderdag van 10:00 - 12:00 uur.
LAST-MODIFIED:20260423T221859Z
LOCATION:’t Vuronger Schoolstraat 6 1271sc Huizen
SEQUENCE:0
STATUS:CONFIRMED
SUMMARY:Geef-en-neemwinkel
TRANSP:OPAQUE
END:VEVENT
END:VCALENDAR
