BEGIN:VCALENDAR
PRODID:-//PUBBLE//enter agenda//NL
VERSION:2.0
METHOD:PUBLISH
BEGIN:VEVENT
DTSTART:20250408T100000Z
DTEND:20250629T220000Z
DTSTAMP:20260424T041322Z
UID:8f231698-7d3b-4ced-9ff2-65e5b213b188
CREATED:20260424T041322Z
URL:https://www.weespfoto.nl/agenda/item/300864
NAME:Buurtlunch ‘t Vuronger weespfoto.nl
X-WR-CALNAME:Buurtlunch ‘t Vuronger weespfoto.nl
X-ALT-DESC;FMTTYPE=text/html:<a href='https://www.weespfoto.nl/agenda/item//300864'>https://weespfoto.nl/agenda/item//300864</a> || <p>Buurtbewoners kunnen gezellig samen eten en andere mensen ontmoeten. Elke 1e maandag van de maand een heerlijke maaltijd met steeds wisselende gerechten. Voor deze activiteit moet je je wel opgeven want er is beperkt plek. Opgeven kan bij Sophia Kuiper, skuiper@versawelzijn.nl 06-45682067.</p>
DESCRIPTION:<a href='https://www.weespfoto.nl/agenda/item//300864'>https://www.weespfoto.nl/agenda/item//300864</a> || Buurtbewoners kunnen gezellig samen eten en andere mensen ontmoeten. Elke 1e maandag van de maand een heerlijke maaltijd met steeds wisselende gerechten. Voor deze activiteit moet je je wel opgeven want er is beperkt plek. Opgeven kan bij Sophia Kuiper, skuiper@versawelzijn.nl 06-45682067.
LAST-MODIFIED:20260424T041322Z
LOCATION:’t Vuronger Schoolstraat 6 1271sc Huizen
SEQUENCE:0
STATUS:CONFIRMED
SUMMARY:Buurtlunch ‘t Vuronger
TRANSP:OPAQUE
END:VEVENT
END:VCALENDAR
