BEGIN:VCALENDAR
PRODID:-//PUBBLE//enter agenda//NL
VERSION:2.0
METHOD:PUBLISH
BEGIN:VEVENT
DTSTART:20240621T153000Z
DTEND:20240621T213000Z
DTSTAMP:20260422T230714Z
UID:150e341d-0d40-449a-a0a1-01ddff89b6de
CREATED:20260422T230714Z
URL:https://www.weespfoto.nl/agenda/item/316975
NAME:Huizer Vis Festijn weespfoto.nl
X-WR-CALNAME:Huizer Vis Festijn weespfoto.nl
X-ALT-DESC;FMTTYPE=text/html:<a href='https://www.weespfoto.nl/agenda/item//316975'>https://weespfoto.nl/agenda/item//316975</a> || <p>Elk jaar organiseert Rotary Huizen het Huizer Vis Festijn. Dit evenement, waarbij bedrijven met elkaar een race met botters houden is al jaren een enorm succes. Niet alleen door de hoge opbrengst die wordt gegenereerd voor het goede doel, ook is er altijd een ontzettende goede en gezellige sfeer. Vanaf 17.30u is de werf open voor publiek en is er tijd voor een hapje en een drankje. Ook kunnen dan de voetjes van de vloer. </p>
DESCRIPTION:<a href='https://www.weespfoto.nl/agenda/item//316975'>https://www.weespfoto.nl/agenda/item//316975</a> || Elk jaar organiseert Rotary Huizen het Huizer Vis Festijn. Dit evenement, waarbij bedrijven met elkaar een race met botters houden is al jaren een enorm succes. Niet alleen door de hoge opbrengst die wordt gegenereerd voor het goede doel, ook is er altijd een ontzettende goede en gezellige sfeer. Vanaf 17.30u is de werf open voor publiek en is er tijd voor een hapje en een drankje. Ook kunnen dan de voetjes van de vloer. 
LAST-MODIFIED:20260422T230714Z
LOCATION:Botterwerf Havenstraat 300 1271GD Huizen
SEQUENCE:0
STATUS:CONFIRMED
SUMMARY:Huizer Vis Festijn
TRANSP:OPAQUE
END:VEVENT
END:VCALENDAR
