BEGIN:VCALENDAR
PRODID:-//PUBBLE//enter agenda//NL
VERSION:2.0
METHOD:PUBLISH
BEGIN:VEVENT
DTSTART:20240203T083000Z
DTEND:20240203T133000Z
DTSTAMP:20260421T155143Z
UID:1f1b69f0-2109-48a7-9642-2b9d5905c4a9
CREATED:20260421T155143Z
URL:https://www.weespfoto.nl/agenda/item/327068
NAME:BRIDGETOERNOOI Loosdrecht weespfoto.nl
X-WR-CALNAME:BRIDGETOERNOOI Loosdrecht weespfoto.nl
X-ALT-DESC;FMTTYPE=text/html:<a href='https://www.weespfoto.nl/agenda/item//327068'>https://weespfoto.nl/agenda/item//327068</a> || <p>Voor&nbsp;de&nbsp;13e&nbsp;keer&nbsp;organiseert Lions Club Loosdrecht e.o. het inmiddels zeer populaire evenement ‘Bridge aan de Dijk’ op zaterdag&nbsp;3&nbsp;februari 2024.&nbsp;De opbrengst van dit toernooi is elk jaar voor een goed doel. Het doel voor 2024&nbsp;is oa. vakantie-eiland&nbsp;Robinson Crusoe&nbsp;in de Loosdrechtse Plassen.</p><p>Een vakantie-eiland midden in de Loosdrechtse Plassen.</p><p>Dit eiland maakt onderdeel uit van SailWise, een organisatie die sinds 1974 tot doel heeft mensen met een beperking te laten genieten van de watersport. Het eiland Robinson Crusoe biedt voor deze mensen een aangepaste accommodatie en aangepaste boten om hen onder begeleiding van gespecialiseerde vrijwilligers optimaal te laten deelnemen aan de watersport op onze mooie Loosdrechtse Plassen.</p><p>Het bridgetoernooi bestaat uit 24 spellen (6 rondes) en vindt plaats op verschillende locaties langs de Oud-Loosdrechtsedijk. De start is om 10:45 uur op zaterdag&nbsp;3&nbsp;februari 2024.</p><p>Nu al inschrijven voor het Bridgetoernooi.</p><p>Deelname aan het toernooi kost € 75 per paar. In dit bedrag zit inbegrepen een kopje koffie of thee bij de start op de eerste locatie, een lunch op de locatie van de 3e ronde en een borrelhapje bij de prijsuitreiking bij KWVL ‘de Vereeniging’ aan de Oud- Loosdrechtsedijk 151-153.&nbsp;</p><p>Aanmelden&nbsp;kan&nbsp;via de website&nbsp;www.loosdrecht.lions.nl.&nbsp;Deelname is uitsluitend mogelijk per&nbsp;paar. Inschrijving vindt plaats op basis van volgorde van betaling en is definitief na ontvangst van het inschrijfformulier en de betaling op rekeningnummer: NL78RABO0336937075 t.n.v. Lionsclub Loosdrecht e.o., met vermelding van uw inschrijfcode.</p><p>Over Lions Club Loosdrecht e.o.</p><p>LC Loosdrecht is een damesclub en is opgericht in 1992. De huidige leden komen uit Loosdrecht, Hilversum, Loenen, Breukelen en Maarssen. Om het wereldwijde motto van de Lions Club &nbsp;“We serve” &nbsp;inhoud te geven kiest LC Loosdrecht elk jaar een goed doel om geld in te zamelen. De club organiseert hiervoor o.a. het jaarlijks terugkerende evenement &nbsp;‘Bridge aan de Dijk’.&nbsp;</p><p>Noot aan de pers:</p><p>Voor vragen kunt u terecht bij:&nbsp;</p><p>Lilian Hopmans Lions Club Loosdrecht</p><p>Email:&nbsp;lilianhopmans@me.com</p><p>Mob: 0031650504713</p>
DESCRIPTION:<a href='https://www.weespfoto.nl/agenda/item//327068'>https://www.weespfoto.nl/agenda/item//327068</a> || Voor de 13e keer organiseert Lions Club Loosdrecht e.o. het inmiddels zeer populaire evenement ‘Bridge aan de Dijk’ op zaterdag 3 februari 2024. De opbrengst van dit toernooi is elk jaar voor een goed doel. Het doel voor 2024 is oa. vakantie-eiland Robinson Crusoe in de Loosdrechtse Plassen.Een vakantie-eiland midden in de Loosdrechtse Plassen.Dit eiland maakt onderdeel uit van SailWise, een organisatie die sinds 1974 tot doel heeft mensen met een beperking te laten genieten van de watersport. Het eiland Robinson Crusoe biedt voor deze mensen een aangepaste accommodatie en aangepaste boten om hen onder begeleiding van gespecialiseerde vrijwilligers optimaal te laten deelnemen aan de watersport op onze mooie Loosdrechtse Plassen.Het bridgetoernooi bestaat uit 24 spellen (6 rondes) en vindt plaats op verschillende locaties langs de Oud-Loosdrechtsedijk. De start is om 10:45 uur op zaterdag 3 februari 2024.Nu al inschrijven voor het Bridgetoernooi.Deelname aan het toernooi kost € 75 per paar. In dit bedrag zit inbegrepen een kopje koffie of thee bij de start op de eerste locatie, een lunch op de locatie van de 3e ronde en een borrelhapje bij de prijsuitreiking bij KWVL ‘de Vereeniging’ aan de Oud- Loosdrechtsedijk 151-153. Aanmelden kan via de website www.loosdrecht.lions.nl. Deelname is uitsluitend mogelijk per paar. Inschrijving vindt plaats op basis van volgorde van betaling en is definitief na ontvangst van het inschrijfformulier en de betaling op rekeningnummer: NL78RABO0336937075 t.n.v. Lionsclub Loosdrecht e.o., met vermelding van uw inschrijfcode.Over Lions Club Loosdrecht e.o.LC Loosdrecht is een damesclub en is opgericht in 1992. De huidige leden komen uit Loosdrecht, Hilversum, Loenen, Breukelen en Maarssen. Om het wereldwijde motto van de Lions Club  “We serve”  inhoud te geven kiest LC Loosdrecht elk jaar een goed doel om geld in te zamelen. De club organiseert hiervoor o.a. het jaarlijks terugkerende evenement  ‘Bridge aan de Dijk’. Noot aan de pers:Voor vragen kunt u terecht bij: Lilian Hopmans Lions Club LoosdrechtEmail: lilianhopmans@me.comMob: 0031650504713
LAST-MODIFIED:20260421T155143Z
LOCATION:Restaurant Heineke Oud-Loosdrechtsedijk 166 1231ne Loosdrecht
SEQUENCE:0
STATUS:CONFIRMED
SUMMARY:BRIDGETOERNOOI Loosdrecht
TRANSP:OPAQUE
END:VEVENT
END:VCALENDAR
