BEGIN:VCALENDAR
PRODID:-//PUBBLE//enter agenda//NL
VERSION:2.0
METHOD:PUBLISH
BEGIN:VEVENT
DTSTART:20240204T093000Z
DTEND:20240204T103000Z
DTSTAMP:20260422T060301Z
UID:4beab7ef-29a3-40ee-8999-9ab5c9fd1218
CREATED:20260422T060301Z
URL:https://www.weespfoto.nl/agenda/item/329421
NAME:Zondagochtendkoffieconcert weespfoto.nl
X-WR-CALNAME:Zondagochtendkoffieconcert weespfoto.nl
X-ALT-DESC;FMTTYPE=text/html:<a href='https://www.weespfoto.nl/agenda/item//329421'>https://weespfoto.nl/agenda/item//329421</a> || <p>In het Papageno Huis Laren kunt u volop genieten van klassieke muziek. Elke zondagochtend is er een optreden van (master) studenten van het Conservatorium van Amsterdam. Jonge talentvolle musici krijgen een podium en jongeren van het Papageno Huis zorgen voor de ontvangst en serveren koffie met gebak. Zondag 4 februari treden Olga van Tongeren (mezzo sopraan) &amp; Maria Macedo (piano) bij ons op. Het concert begint om 11.30 uur en duurt ongeveer een uur. Vanaf 11.00 ben u welkom voor koffie met huisgemaakt lekkers. Na afloop van het concert serveren we een heerlijke lunch. Ga naar onze webshop voor het bestellen van tickets</p>
DESCRIPTION:<a href='https://www.weespfoto.nl/agenda/item//329421'>https://www.weespfoto.nl/agenda/item//329421</a> || In het Papageno Huis Laren kunt u volop genieten van klassieke muziek. Elke zondagochtend is er een optreden van (master) studenten van het Conservatorium van Amsterdam. Jonge talentvolle musici krijgen een podium en jongeren van het Papageno Huis zorgen voor de ontvangst en serveren koffie met gebak. Zondag 4 februari treden Olga van Tongeren (mezzo sopraan) & Maria Macedo (piano) bij ons op. Het concert begint om 11.30 uur en duurt ongeveer een uur. Vanaf 11.00 ben u welkom voor koffie met huisgemaakt lekkers. Na afloop van het concert serveren we een heerlijke lunch. Ga naar onze webshop voor het bestellen van tickets
LAST-MODIFIED:20260422T060301Z
LOCATION:    
SEQUENCE:0
STATUS:CONFIRMED
SUMMARY:Zondagochtendkoffieconcert
TRANSP:OPAQUE
END:VEVENT
END:VCALENDAR
