BEGIN:VCALENDAR
PRODID:-//PUBBLE//enter agenda//NL
VERSION:2.0
METHOD:PUBLISH
BEGIN:VEVENT
DTSTART:20240620T120000Z
DTEND:20241201T114300Z
DTSTAMP:20260422T090929Z
UID:f742dc5a-e1f0-4037-887a-5d1f44e2cc4c
CREATED:20260422T090929Z
URL:https://www.weespfoto.nl/agenda/item/329733
NAME:Bingo in de Palmpit weespfoto.nl
X-WR-CALNAME:Bingo in de Palmpit weespfoto.nl
X-ALT-DESC;FMTTYPE=text/html:<a href='https://www.weespfoto.nl/agenda/item//329733'>https://weespfoto.nl/agenda/item//329733</a> || <p>Elke 1e zondag van de maand gezellig bingo in de Palmpit. Aanvang 14.00 uur. Een bingo kaart kost € 5,-. Dit is inclusief één consumptie en gratis lekkere hapjes.</p>
DESCRIPTION:<a href='https://www.weespfoto.nl/agenda/item//329733'>https://www.weespfoto.nl/agenda/item//329733</a> || Elke 1e zondag van de maand gezellig bingo in de Palmpit. Aanvang 14.00 uur. Een bingo kaart kost € 5,-. Dit is inclusief één consumptie en gratis lekkere hapjes.
LAST-MODIFIED:20260422T090929Z
LOCATION:De Palmpit Bussum Koekoeklaan  3 1403ea Bussum
SEQUENCE:0
STATUS:CONFIRMED
SUMMARY:Bingo in de Palmpit
TRANSP:OPAQUE
END:VEVENT
END:VCALENDAR
