BEGIN:VCALENDAR
PRODID:-//PUBBLE//enter agenda//NL
VERSION:2.0
METHOD:PUBLISH
BEGIN:VEVENT
DTSTART:20240203T183000Z
DTEND:20240203T203000Z
DTSTAMP:20260422T011408Z
UID:7255bf16-62ec-4795-b5e8-aed73391ebcb
CREATED:20260422T011408Z
URL:https://www.weespfoto.nl/agenda/item/329955
NAME:Cabaret: Valentina Toth. weespfoto.nl
X-WR-CALNAME:Cabaret: Valentina Toth. weespfoto.nl
X-ALT-DESC;FMTTYPE=text/html:<a href='https://www.weespfoto.nl/agenda/item//329955'>https://weespfoto.nl/agenda/item//329955</a> || <p>Op 3 februari komt Valentina Toth met haar programma Wildbloei naar het Dorpshuis in Nigtevecht: zij is het Volkskrant comedy talent van 2023, en won alle prijzen van het Amsterdams Kleinkunst Festival. De pers schreef: ”Een tragikomische, muzikale en over the top one woman show, die de grenzen en clichés van het vrouwbeeld verkent”. Ze flipperkast van K3-sterretje naar Koningin van de Nacht. En van toeslagenslachtoffer naar zichzelf. Kaarten kosten € 19,- en zijn verkrijgbaar via <a href="//www.cabaret-nigtevecht.nl">www.cabaret-nigtevecht.nl</a> of telefonisch 0294-252506. </p>
DESCRIPTION:<a href='https://www.weespfoto.nl/agenda/item//329955'>https://www.weespfoto.nl/agenda/item//329955</a> || Op 3 februari komt Valentina Toth met haar programma Wildbloei naar het Dorpshuis in Nigtevecht: zij is het Volkskrant comedy talent van 2023, en won alle prijzen van het Amsterdams Kleinkunst Festival. De pers schreef: ”Een tragikomische, muzikale en over the top one woman show, die de grenzen en clichés van het vrouwbeeld verkent”. Ze flipperkast van K3-sterretje naar Koningin van de Nacht. En van toeslagenslachtoffer naar zichzelf. Kaarten kosten € 19,- en zijn verkrijgbaar via www.cabaret-nigtevecht.nl of telefonisch 0294-252506. 
LAST-MODIFIED:20260422T011408Z
LOCATION:Dorpshuis Nigtevecht Jhr. Huydecoperstraat 1 1393nv Nigtevecht
SEQUENCE:0
STATUS:CONFIRMED
SUMMARY:Cabaret: Valentina Toth.
TRANSP:OPAQUE
END:VEVENT
END:VCALENDAR
