BEGIN:VCALENDAR
PRODID:-//PUBBLE//enter agenda//NL
VERSION:2.0
METHOD:PUBLISH
BEGIN:VEVENT
DTSTART:20240202T153000Z
DTEND:20240202T173000Z
DTSTAMP:20260421T083539Z
UID:75c6d19d-5b45-4bec-8f35-4bb9b7a08ccc
CREATED:20260421T083539Z
URL:https://www.weespfoto.nl/agenda/item/330057
NAME:Eemnes kookt weespfoto.nl
X-WR-CALNAME:Eemnes kookt weespfoto.nl
X-ALT-DESC;FMTTYPE=text/html:<a href='https://www.weespfoto.nl/agenda/item//330057'>https://weespfoto.nl/agenda/item//330057</a> || <p>Iedere eerste vrijdag van de maand wordt er in het Huis van Eemnes een wel heel bijzonder diner geserveerd. Iedere maand neemt een groep met gastkoks van jong tot oud onze keuken over en kookt een volledig driegangenmenu. Voor wie? Voor iedereen die zin heeft in wat gezelligheid!</p><p>Zin om ook aan te schuiven? Reserveer je zitplaats door een kaartje te kopen. We serveren het diner tussen 18.00 en 19.30 uur. Inloop is vanaf 17.30 uur.</p><p>We serveren al onze gasten hetzelfde voor-, hoofd- en nagerecht. Helaas is het niet mogelijk om rekening te houden met dieetwensen.</p>
DESCRIPTION:<a href='https://www.weespfoto.nl/agenda/item//330057'>https://www.weespfoto.nl/agenda/item//330057</a> || Iedere eerste vrijdag van de maand wordt er in het Huis van Eemnes een wel heel bijzonder diner geserveerd. Iedere maand neemt een groep met gastkoks van jong tot oud onze keuken over en kookt een volledig driegangenmenu. Voor wie? Voor iedereen die zin heeft in wat gezelligheid!Zin om ook aan te schuiven? Reserveer je zitplaats door een kaartje te kopen. We serveren het diner tussen 18.00 en 19.30 uur. Inloop is vanaf 17.30 uur.We serveren al onze gasten hetzelfde voor-, hoofd- en nagerecht. Helaas is het niet mogelijk om rekening te houden met dieetwensen.
LAST-MODIFIED:20260421T083539Z
LOCATION:Huis van Eemnes Noordersingel 4 3755EZ Eemnes
SEQUENCE:0
STATUS:CONFIRMED
SUMMARY:Eemnes kookt
TRANSP:OPAQUE
END:VEVENT
END:VCALENDAR
