BEGIN:VCALENDAR
PRODID:-//PUBBLE//enter agenda//NL
VERSION:2.0
METHOD:PUBLISH
BEGIN:VEVENT
DTSTART:20251121T080000Z
DTEND:20270108T131600Z
DTSTAMP:20260424T091211Z
UID:3b6a51df-2a86-44ef-924d-116886af9029
CREATED:20260424T091211Z
URL:https://www.weespfoto.nl/agenda/item/330206
NAME:Inloopspreekuur Seniorweb weespfoto.nl
X-WR-CALNAME:Inloopspreekuur Seniorweb weespfoto.nl
X-ALT-DESC;FMTTYPE=text/html:<a href='https://www.weespfoto.nl/agenda/item//330206'>https://weespfoto.nl/agenda/item//330206</a> || <p>U bent iedere vrijdag tussen 10 en 12 uur van harte welkom bij ons inloopspreekuur.</p><p>Locatie, Bibliotheek Gooi+, Bussum.</p><p>Wij helpen u bij uw vragen over al uw digitale apparaten.&nbsp;</p><p>Ook verzorgen wij 1 op 1 lessen, daarvoor komt u langs voor een afspraak..</p><p>Coördinator: P. Bulten pbulten@gmail.com</p>
DESCRIPTION:<a href='https://www.weespfoto.nl/agenda/item//330206'>https://www.weespfoto.nl/agenda/item//330206</a> || U bent iedere vrijdag tussen 10 en 12 uur van harte welkom bij ons inloopspreekuur.Locatie, Bibliotheek Gooi+, Bussum.Wij helpen u bij uw vragen over al uw digitale apparaten. Ook verzorgen wij 1 op 1 lessen, daarvoor komt u langs voor een afspraak..Coördinator: P. Bulten pbulten@gmail.com
LAST-MODIFIED:20260424T091211Z
LOCATION:Bibliotheek Gooi+ Bussum Wilhelminaplantsoen 18 1404jb Bussum
SEQUENCE:0
STATUS:CONFIRMED
SUMMARY:Inloopspreekuur Seniorweb
TRANSP:OPAQUE
END:VEVENT
END:VCALENDAR
