BEGIN:VCALENDAR
PRODID:-//PUBBLE//enter agenda//NL
VERSION:2.0
METHOD:PUBLISH
BEGIN:VEVENT
DTSTART:20240202T183000Z
DTEND:20240202T210000Z
DTSTAMP:20260421T142332Z
UID:8764e0ce-2d07-4c5a-b52a-424648307f71
CREATED:20260421T142332Z
URL:https://www.weespfoto.nl/agenda/item/330265
NAME:Erik Brey - Viva la Diva weespfoto.nl
X-WR-CALNAME:Erik Brey - Viva la Diva weespfoto.nl
X-ALT-DESC;FMTTYPE=text/html:<a href='https://www.weespfoto.nl/agenda/item//330265'>https://weespfoto.nl/agenda/item//330265</a> || <p>Het waargebeurde verhaal van de gefortuneerde Florence Foster Jenkins, die Carnegie Hall afhuurde voor een zangrecital, maar geen noot zuiver kon zingen.</p><p>De geschiedenis speelt zich af in het New York van de jaren veertig en wordt nagespeeld in deze hilarische (a)muzikale komedie. Die is geschreven door Chris Ballance en was een groot succes op het Edinburgh Festival Fringe (1992), maar was daarna nooit meer te zien. Nu wel, want Frédérique Sluyterman van Loo kruipt in de rol van Florence en Erik Brey in die van zowel haar pianist als haar echtgenoot. Alles zal live (vals) worden gezongen en op piano begeleid. Een hilarische voorstelling, die uw oren zal pijnigen, uw lachspieren zal aanspannen, maar ook uw hart zal verwarmen. Theater is een lach én een traan, toch?</p><p>Inclusief één (pauze)drankje</p>
DESCRIPTION:<a href='https://www.weespfoto.nl/agenda/item//330265'>https://www.weespfoto.nl/agenda/item//330265</a> || Het waargebeurde verhaal van de gefortuneerde Florence Foster Jenkins, die Carnegie Hall afhuurde voor een zangrecital, maar geen noot zuiver kon zingen.De geschiedenis speelt zich af in het New York van de jaren veertig en wordt nagespeeld in deze hilarische (a)muzikale komedie. Die is geschreven door Chris Ballance en was een groot succes op het Edinburgh Festival Fringe (1992), maar was daarna nooit meer te zien. Nu wel, want Frédérique Sluyterman van Loo kruipt in de rol van Florence en Erik Brey in die van zowel haar pianist als haar echtgenoot. Alles zal live (vals) worden gezongen en op piano begeleid. Een hilarische voorstelling, die uw oren zal pijnigen, uw lachspieren zal aanspannen, maar ook uw hart zal verwarmen. Theater is een lach én een traan, toch?Inclusief één (pauze)drankje
LAST-MODIFIED:20260421T142332Z
LOCATION:City of Wesopa Herengracht 23 Herengracht 23 1382ag Weesp
SEQUENCE:0
STATUS:CONFIRMED
SUMMARY:Erik Brey - Viva la Diva
TRANSP:OPAQUE
END:VEVENT
END:VCALENDAR
