BEGIN:VCALENDAR
PRODID:-//PUBBLE//enter agenda//NL
VERSION:2.0
METHOD:PUBLISH
BEGIN:VEVENT
DTSTART:20240203T180000Z
DTEND:20240203T230000Z
DTSTAMP:20260421T221155Z
UID:1b2b9a2d-2387-4c1c-b101-85d669fff78c
CREATED:20260421T221155Z
URL:https://www.weespfoto.nl/agenda/item/330281
NAME:30+ Dancing Party Dansen weespfoto.nl
X-WR-CALNAME:30+ Dancing Party Dansen weespfoto.nl
X-ALT-DESC;FMTTYPE=text/html:<a href='https://www.weespfoto.nl/agenda/item//330281'>https://weespfoto.nl/agenda/item//330281</a> || <p>Party voor iedereen vanaf 30 jaar. Relaxed en gezellig uitgaan met leuke leeftijdsgenoten en lekkere hapjes. Uitsluitend hits uit de 70’s | 80’s | 90’s | 00’s | 10’s &amp; NOW &nbsp;- voor elk wat wils - </p>
DESCRIPTION:<a href='https://www.weespfoto.nl/agenda/item//330281'>https://www.weespfoto.nl/agenda/item//330281</a> || Party voor iedereen vanaf 30 jaar. Relaxed en gezellig uitgaan met leuke leeftijdsgenoten en lekkere hapjes. Uitsluitend hits uit de 70’s | 80’s | 90’s | 00’s | 10’s & NOW  - voor elk wat wils - 
LAST-MODIFIED:20260421T221155Z
LOCATION:Amrâth Hotel Lapershoek Arenapark Utrechtseweg 16 1213ts Hilversum
SEQUENCE:0
STATUS:CONFIRMED
SUMMARY:30+ Dancing Party Dansen
TRANSP:OPAQUE
END:VEVENT
END:VCALENDAR
