BEGIN:VCALENDAR
PRODID:-//PUBBLE//enter agenda//NL
VERSION:2.0
METHOD:PUBLISH
BEGIN:VEVENT
DTSTART:20240204T090000Z
DTEND:20240204T100000Z
DTSTAMP:20260422T042136Z
UID:bdd87f6f-59d5-49d1-a161-afda52efba7c
CREATED:20260422T042136Z
URL:https://www.weespfoto.nl/agenda/item/330374
NAME:Theatervoorstelling 0-6 jr weespfoto.nl
X-WR-CALNAME:Theatervoorstelling 0-6 jr weespfoto.nl
X-ALT-DESC;FMTTYPE=text/html:<a href='https://www.weespfoto.nl/agenda/item//330374'>https://weespfoto.nl/agenda/item//330374</a> || <p>Help! Een verrassing!</p><p>Van 24 januari tot en met 3 februari vinden de Nationale Voorleesdagen plaats. Tijdens deze Voorleesdagen komt Theater Fantast een fantastische poppenvoorstelling geven in de bibliotheken van Gooi+. Dat wil je echt niet missen! Koop snel je kaartje en kom met het hele gezin genieten van deze mooie voorstelling.</p><p>Deze poppenvoorstelling is vooral geschikt voor kinderen van 0 tot 6 jaar.</p><p>Waar gaat het over?</p><p>Tim is gek op dieren. Hij voelt zich thuis in het bos. Zoeken en kijken naar alle dieren uit het bos vindt hij het leukste dat er is. Het vinden van dieren lijkt toch niet zo makkelijk...</p>
DESCRIPTION:<a href='https://www.weespfoto.nl/agenda/item//330374'>https://www.weespfoto.nl/agenda/item//330374</a> || Help! Een verrassing!Van 24 januari tot en met 3 februari vinden de Nationale Voorleesdagen plaats. Tijdens deze Voorleesdagen komt Theater Fantast een fantastische poppenvoorstelling geven in de bibliotheken van Gooi+. Dat wil je echt niet missen! Koop snel je kaartje en kom met het hele gezin genieten van deze mooie voorstelling.Deze poppenvoorstelling is vooral geschikt voor kinderen van 0 tot 6 jaar.Waar gaat het over?Tim is gek op dieren. Hij voelt zich thuis in het bos. Zoeken en kijken naar alle dieren uit het bos vindt hij het leukste dat er is. Het vinden van dieren lijkt toch niet zo makkelijk...
LAST-MODIFIED:20260422T042136Z
LOCATION:Bibliotheek Gooi + Muiden Kazernestraat 10 1398an Muiden
SEQUENCE:0
STATUS:CONFIRMED
SUMMARY:Theatervoorstelling 0-6 jr
TRANSP:OPAQUE
END:VEVENT
END:VCALENDAR
