BEGIN:VCALENDAR
PRODID:-//PUBBLE//enter agenda//NL
VERSION:2.0
METHOD:PUBLISH
BEGIN:VEVENT
DTSTART:20240202T173000Z
DTEND:20240202T223000Z
DTSTAMP:20260421T095443Z
UID:4a3a1d22-d46d-4dd6-a014-c52f6609334c
CREATED:20260421T095443Z
URL:https://www.weespfoto.nl/agenda/item/330377
NAME:Diva Bingo ‘t Gooi weespfoto.nl
X-WR-CALNAME:Diva Bingo ‘t Gooi weespfoto.nl
X-ALT-DESC;FMTTYPE=text/html:<a href='https://www.weespfoto.nl/agenda/item//330377'>https://weespfoto.nl/agenda/item//330377</a> || <p><em>De leukste bingo van het gooi!</em></p><p>BREAKING NEWS! Een extra editie op vrijdag 2 februari 2024: Diva Bingo ‘t Gooi: Après-ski.</p><p>Met luxe prijzen van o.a. Rituals, Pandora, Guess, Victoria’s Secret, UGG Lash Lifting, CHI en nog veel meer!</p><p>Kaarten zijn vanaf nu te bestellen via 06 23 1987 78&nbsp;</p>
DESCRIPTION:<a href='https://www.weespfoto.nl/agenda/item//330377'>https://www.weespfoto.nl/agenda/item//330377</a> || De leukste bingo van het gooi!BREAKING NEWS! Een extra editie op vrijdag 2 februari 2024: Diva Bingo ‘t Gooi: Après-ski.Met luxe prijzen van o.a. Rituals, Pandora, Guess, Victoria’s Secret, UGG Lash Lifting, CHI en nog veel meer!Kaarten zijn vanaf nu te bestellen via 06 23 1987 78 
LAST-MODIFIED:20260421T095443Z
LOCATION:SC 't Gooi Kininelaantje 9 1216bz Hilversum
SEQUENCE:0
STATUS:CONFIRMED
SUMMARY:Diva Bingo ‘t Gooi
TRANSP:OPAQUE
END:VEVENT
END:VCALENDAR
