BEGIN:VCALENDAR
PRODID:-//PUBBLE//enter agenda//NL
VERSION:2.0
METHOD:PUBLISH
BEGIN:VEVENT
DTSTART:20240204T104500Z
DTEND:20240204T114500Z
DTSTAMP:20260422T073706Z
UID:ddd8e7d7-5c1d-478e-8f26-abc51f701ba3
CREATED:20260422T073706Z
URL:https://www.weespfoto.nl/agenda/item/330823
NAME:Gluren bij de buren weespfoto.nl
X-WR-CALNAME:Gluren bij de buren weespfoto.nl
X-ALT-DESC;FMTTYPE=text/html:<a href='https://www.weespfoto.nl/agenda/item//330823'>https://weespfoto.nl/agenda/item//330823</a> || <p>Gluren bij de buren; zondag 4 februari Bobby, Reggy &amp; Noor Geuzenweg 84 Hilversum Welkom geheten door: Noor Huguenin en vrijwilligers van wijkcentrum De Geus Tijden van de optredens; 13:30-14:15-15:00-15:45 Dit veelzijdige duo, ook wel “de Gooische Blue Diamonds” genoemd, zingt en speelt een mix van evergreens en swingende rocksongs uit de jaren ‘50 en ‘60 en Indische liedjes van verlangen. Noor is hun ladyspeaker. Een ouderwets feest van herkenning </p>
DESCRIPTION:<a href='https://www.weespfoto.nl/agenda/item//330823'>https://www.weespfoto.nl/agenda/item//330823</a> || Gluren bij de buren; zondag 4 februari Bobby, Reggy & Noor Geuzenweg 84 Hilversum Welkom geheten door: Noor Huguenin en vrijwilligers van wijkcentrum De Geus Tijden van de optredens; 13:30-14:15-15:00-15:45 Dit veelzijdige duo, ook wel “de Gooische Blue Diamonds” genoemd, zingt en speelt een mix van evergreens en swingende rocksongs uit de jaren ‘50 en ‘60 en Indische liedjes van verlangen. Noor is hun ladyspeaker. Een ouderwets feest van herkenning 
LAST-MODIFIED:20260422T073706Z
LOCATION:Wijkcentrum De Geus Geuzenweg 84 1221BV Hilversum
SEQUENCE:0
STATUS:CONFIRMED
SUMMARY:Gluren bij de buren
TRANSP:OPAQUE
END:VEVENT
END:VCALENDAR
