BEGIN:VCALENDAR
PRODID:-//PUBBLE//enter agenda//NL
VERSION:2.0
METHOD:PUBLISH
BEGIN:VEVENT
DTSTART:20240203T120000Z
DTEND:20240203T140000Z
DTSTAMP:20260421T203732Z
UID:7a577745-21ef-4c89-93c6-2ad6657da227
CREATED:20260421T203732Z
URL:https://www.weespfoto.nl/agenda/item/330866
NAME:CoderDojo weespfoto.nl
X-WR-CALNAME:CoderDojo weespfoto.nl
X-ALT-DESC;FMTTYPE=text/html:<a href='https://www.weespfoto.nl/agenda/item//330866'>https://weespfoto.nl/agenda/item//330866</a> || <p>Tijdens CoderDojo leer je samen met andere kinderen op een toegankelijke manier programmeren. Ga aan de slag met Scratch of Python en ontwerp je eigen game of kunstwerk!</p><p>CoderDojo is voor kinderen van 7 tot en met 17 jaar. Bij kinderen jonger dan 12 jaar vragen we of er een ouder meekomt om te helpen met het maken van de opdrachten. Voor de technische vragen staan onze vrijwilligers natuurlijk klaar!</p><p>CoderDojo is iedere eerste zaterdag van de maand van 14 tot 16 uur in de bibliotheek in Bussum of iedere tweede zaterdag van de maand van 14 tot 16 uur in de bibliotheek in Huizen.</p><p>Toegang is gratis, maar wel graag aanmelden.</p>
DESCRIPTION:<a href='https://www.weespfoto.nl/agenda/item//330866'>https://www.weespfoto.nl/agenda/item//330866</a> || Tijdens CoderDojo leer je samen met andere kinderen op een toegankelijke manier programmeren. Ga aan de slag met Scratch of Python en ontwerp je eigen game of kunstwerk!CoderDojo is voor kinderen van 7 tot en met 17 jaar. Bij kinderen jonger dan 12 jaar vragen we of er een ouder meekomt om te helpen met het maken van de opdrachten. Voor de technische vragen staan onze vrijwilligers natuurlijk klaar!CoderDojo is iedere eerste zaterdag van de maand van 14 tot 16 uur in de bibliotheek in Bussum of iedere tweede zaterdag van de maand van 14 tot 16 uur in de bibliotheek in Huizen.Toegang is gratis, maar wel graag aanmelden.
LAST-MODIFIED:20260421T203732Z
LOCATION:Bibliotheek Gooi+ Bussum Wilhelminaplantsoen 18 1404jb Bussum
SEQUENCE:0
STATUS:CONFIRMED
SUMMARY:CoderDojo
TRANSP:OPAQUE
END:VEVENT
END:VCALENDAR
