BEGIN:VCALENDAR
PRODID:-//PUBBLE//enter agenda//NL
VERSION:2.0
METHOD:PUBLISH
BEGIN:VEVENT
DTSTART:20260102T090000Z
DTEND:20261231T091000Z
DTSTAMP:20260424T121339Z
UID:a4056127-67be-4e9c-b545-0030ced32f31
CREATED:20260424T121339Z
URL:https://www.weespfoto.nl/agenda/item/330900
NAME:Expo Weesper Porselein weespfoto.nl
X-WR-CALNAME:Expo Weesper Porselein weespfoto.nl
X-ALT-DESC;FMTTYPE=text/html:<a href='https://www.weespfoto.nl/agenda/item//330900'>https://weespfoto.nl/agenda/item//330900</a> || <p>Weesper Porselein, door handen uit andere landen&nbsp;</p><p>Porselein staat in de 18e eeuw symbool voor een wereld van geheime recepten, rondreizende kunstenaars, exotische vogels, mysterieuze chinoiserieën en overweldigende rococo. Voorwerpen van porselein zijn geliefd als ultieme pronkstukken en alleen betaalbaar voor de allerrijksten.</p><p>Hoe kan het, dat het vroegste Hollands porselein nu juist in Weesp is gemaakt?</p><p>Hoe kan het, dat een kleine fabriek zulke extravagante sierstukken heeft geproduceerd?</p><p>Ontdek dit bijzondere verhaal in Museum Weesp en bewonder het prachtige Weesper porselein, een hoogtepunt van technisch en artistiek menselijk kunnen.</p>
DESCRIPTION:<a href='https://www.weespfoto.nl/agenda/item//330900'>https://www.weespfoto.nl/agenda/item//330900</a> || Weesper Porselein, door handen uit andere landen Porselein staat in de 18e eeuw symbool voor een wereld van geheime recepten, rondreizende kunstenaars, exotische vogels, mysterieuze chinoiserieën en overweldigende rococo. Voorwerpen van porselein zijn geliefd als ultieme pronkstukken en alleen betaalbaar voor de allerrijksten.Hoe kan het, dat het vroegste Hollands porselein nu juist in Weesp is gemaakt?Hoe kan het, dat een kleine fabriek zulke extravagante sierstukken heeft geproduceerd?Ontdek dit bijzondere verhaal in Museum Weesp en bewonder het prachtige Weesper porselein, een hoogtepunt van technisch en artistiek menselijk kunnen.
LAST-MODIFIED:20260424T121339Z
LOCATION:Museum Weesp, Nieuwstraat 41 Nieuwstraat 41 1381bd Weesp
SEQUENCE:0
STATUS:CONFIRMED
SUMMARY:Expo Weesper Porselein
TRANSP:OPAQUE
END:VEVENT
END:VCALENDAR
