BEGIN:VCALENDAR
PRODID:-//PUBBLE//enter agenda//NL
VERSION:2.0
METHOD:PUBLISH
BEGIN:VEVENT
DTSTART:20240203T110000Z
DTEND:20240203T123000Z
DTSTAMP:20260421T185346Z
UID:2d3d61ed-497a-4b2f-931d-a70118cdfbec
CREATED:20260421T185346Z
URL:https://www.weespfoto.nl/agenda/item/331196
NAME:Open dag Muziekschool weespfoto.nl
X-WR-CALNAME:Open dag Muziekschool weespfoto.nl
X-ALT-DESC;FMTTYPE=text/html:<a href='https://www.weespfoto.nl/agenda/item//331196'>https://weespfoto.nl/agenda/item//331196</a> || <p>Zaterdag 3 februari organiseert Muziekschool Huizen een open dag. Van 13.00 tot 14.30 uur zijn geïnteresseerden welkom om kennis te maken met het aanbod in De Baat aan de IJsselmeerstraat 3b Huizen</p>
DESCRIPTION:<a href='https://www.weespfoto.nl/agenda/item//331196'>https://www.weespfoto.nl/agenda/item//331196</a> || Zaterdag 3 februari organiseert Muziekschool Huizen een open dag. Van 13.00 tot 14.30 uur zijn geïnteresseerden welkom om kennis te maken met het aanbod in De Baat aan de IJsselmeerstraat 3b Huizen
LAST-MODIFIED:20260421T185346Z
LOCATION:Verenigingsgebouw De Baat IJsselmeerstraat 3b 1271aa Huizen
SEQUENCE:0
STATUS:CONFIRMED
SUMMARY:Open dag Muziekschool
TRANSP:OPAQUE
END:VEVENT
END:VCALENDAR
