BEGIN:VCALENDAR
PRODID:-//PUBBLE//enter agenda//NL
VERSION:2.0
METHOD:PUBLISH
BEGIN:VEVENT
DTSTART:20240202T181500Z
DTEND:20240202T201500Z
DTSTAMP:20260421T123748Z
UID:df5b79af-3d2e-475a-b1af-da5c1cd116b9
CREATED:20260421T123748Z
URL:https://www.weespfoto.nl/agenda/item/331343
NAME:Astrid Nijgh met band weespfoto.nl
X-WR-CALNAME:Astrid Nijgh met band weespfoto.nl
X-ALT-DESC;FMTTYPE=text/html:<a href='https://www.weespfoto.nl/agenda/item//331343'>https://weespfoto.nl/agenda/item//331343</a> || <p>Ik doe wat ik doe</p><p>De muziek van Astrid en haar man Lennaert Nijgh leeft in vele harten voort. Grote artiesten maakten gretig gebruik van de artistieke kwaliteiten van dit echtpaar.</p>
DESCRIPTION:<a href='https://www.weespfoto.nl/agenda/item//331343'>https://www.weespfoto.nl/agenda/item//331343</a> || Ik doe wat ik doeDe muziek van Astrid en haar man Lennaert Nijgh leeft in vele harten voort. Grote artiesten maakten gretig gebruik van de artistieke kwaliteiten van dit echtpaar.
LAST-MODIFIED:20260421T123748Z
LOCATION:Het Theater Huizerweg 13 1261as Blaricum
SEQUENCE:0
STATUS:CONFIRMED
SUMMARY:Astrid Nijgh met band
TRANSP:OPAQUE
END:VEVENT
END:VCALENDAR
