BEGIN:VCALENDAR
PRODID:-//PUBBLE//enter agenda//NL
VERSION:2.0
METHOD:PUBLISH
BEGIN:VEVENT
DTSTART:20240203T181500Z
DTEND:20240203T201500Z
DTSTAMP:20260421T233736Z
UID:b8a8d9b0-7afa-4b1f-bf6a-387513dfe568
CREATED:20260421T233736Z
URL:https://www.weespfoto.nl/agenda/item/331344
NAME:Harmsen en Boom weespfoto.nl
X-WR-CALNAME:Harmsen en Boom weespfoto.nl
X-ALT-DESC;FMTTYPE=text/html:<a href='https://www.weespfoto.nl/agenda/item//331344'>https://weespfoto.nl/agenda/item//331344</a> || <p>Het is een gave</p><p>Harmsen en Boom, tevens de makers van het Wijncabaret, voeren je mee langs stranden, bosranden en asociale Volvorijers. Het milieu wordt bezongen en de poëzie wordt uitgekleed.</p>
DESCRIPTION:<a href='https://www.weespfoto.nl/agenda/item//331344'>https://www.weespfoto.nl/agenda/item//331344</a> || Het is een gaveHarmsen en Boom, tevens de makers van het Wijncabaret, voeren je mee langs stranden, bosranden en asociale Volvorijers. Het milieu wordt bezongen en de poëzie wordt uitgekleed.
LAST-MODIFIED:20260421T233736Z
LOCATION:Het Theater Huizerweg 13 1261as Blaricum
SEQUENCE:0
STATUS:CONFIRMED
SUMMARY:Harmsen en Boom
TRANSP:OPAQUE
END:VEVENT
END:VCALENDAR
